BEGIN:VCALENDAR
VERSION:2.0
PRODID:-//suchhunde.wien | Professionelles Training mit Herz! - ECPv5.8.1//NONSGML v1.0//EN
CALSCALE:GREGORIAN
METHOD:PUBLISH
X-WR-CALNAME:suchhunde.wien | Professionelles Training mit Herz!
X-ORIGINAL-URL:https://www.suchhunde.wien
X-WR-CALDESC:Veranstaltungen für suchhunde.wien | Professionelles Training mit Herz!
BEGIN:VTIMEZONE
TZID:Europe/Vienna
BEGIN:DAYLIGHT
TZOFFSETFROM:+0100
TZOFFSETTO:+0200
TZNAME:CEST
DTSTART:20190331T010000
END:DAYLIGHT
BEGIN:STANDARD
TZOFFSETFROM:+0200
TZOFFSETTO:+0100
TZNAME:CET
DTSTART:20191027T010000
END:STANDARD
BEGIN:DAYLIGHT
TZOFFSETFROM:+0100
TZOFFSETTO:+0200
TZNAME:CEST
DTSTART:20200329T010000
END:DAYLIGHT
BEGIN:STANDARD
TZOFFSETFROM:+0200
TZOFFSETTO:+0100
TZNAME:CET
DTSTART:20201025T010000
END:STANDARD
BEGIN:DAYLIGHT
TZOFFSETFROM:+0100
TZOFFSETTO:+0200
TZNAME:CEST
DTSTART:20210328T010000
END:DAYLIGHT
BEGIN:STANDARD
TZOFFSETFROM:+0200
TZOFFSETTO:+0100
TZNAME:CET
DTSTART:20211031T010000
END:STANDARD
BEGIN:DAYLIGHT
TZOFFSETFROM:+0100
TZOFFSETTO:+0200
TZNAME:CEST
DTSTART:20220327T010000
END:DAYLIGHT
BEGIN:STANDARD
TZOFFSETFROM:+0200
TZOFFSETTO:+0100
TZNAME:CET
DTSTART:20221030T010000
END:STANDARD
BEGIN:DAYLIGHT
TZOFFSETFROM:+0100
TZOFFSETTO:+0200
TZNAME:CEST
DTSTART:20230326T010000
END:DAYLIGHT
BEGIN:STANDARD
TZOFFSETFROM:+0200
TZOFFSETTO:+0100
TZNAME:CET
DTSTART:20231029T010000
END:STANDARD
BEGIN:DAYLIGHT
TZOFFSETFROM:+0100
TZOFFSETTO:+0200
TZNAME:CEST
DTSTART:20240331T010000
END:DAYLIGHT
BEGIN:STANDARD
TZOFFSETFROM:+0200
TZOFFSETTO:+0100
TZNAME:CET
DTSTART:20241027T010000
END:STANDARD
BEGIN:DAYLIGHT
TZOFFSETFROM:+0100
TZOFFSETTO:+0200
TZNAME:CEST
DTSTART:20250330T010000
END:DAYLIGHT
BEGIN:STANDARD
TZOFFSETFROM:+0200
TZOFFSETTO:+0100
TZNAME:CET
DTSTART:20251026T010000
END:STANDARD
END:VTIMEZONE
BEGIN:VEVENT
DTSTART;TZID=Europe/Vienna:20190219T210000
DTEND;TZID=Europe/Vienna:20190219T230000
DTSTAMP:20260420T120524
CREATED:20190115T093204Z
LAST-MODIFIED:20210617T164159Z
UID:2824-1550610000-1550617200@www.suchhunde.wien
SUMMARY:Vollmondtrail Donauinsel
DESCRIPTION:Liebe Mondsüchtigen! \nZum heutigen Vollmondtrail werden wir die Innenstadt unsicher machen. \nBei diesem Training werden die Trails an den Wissenstand des Teams angepasst und die Basics weiter ausgebaut. Bei den fortgeschrittenen Teams wird der Fokus vermehrt auf Leinenhandling und Suchtaktik gelegt. Ihr werdet als Team noch besser zusammenarbeiten und lernen verschiedenste Spuren zu differenzieren. Auf individuelle Schwierigkeiten je Mensch-Hunde-Team wird dabei größten Wert gelegt.
URL:https://www.suchhunde.wien/event/vollmond-190219/
LOCATION:Wien\, 21.Bezirk – Donauinsel\, Donauinsel 1\, Wien\, 1210\, Österreich
CATEGORIES:(3) Events
ORGANIZER;CN="Sandra":MAILTO:sandra@suchhunde.wien
END:VEVENT
BEGIN:VEVENT
DTSTART;TZID=Europe/Vienna:20200818T180000
DTEND;TZID=Europe/Vienna:20200818T200000
DTSTAMP:20260420T120524
CREATED:20200625T133247Z
LAST-MODIFIED:20210617T164120Z
UID:3965-1597773600-1597780800@www.suchhunde.wien
SUMMARY:LOCATIONTRAIL Donauinsel
DESCRIPTION:Liebe Mantrailer! \nDiese Woche bringt uns unser Locationtrail ins Wiener Naherholungsgebiet Nummer eins: die Donauinsel! Zwischen Radfahrern\, Joggern und freilaufenden Hunden gilt es diese Herausforderung zu meistern.\nBei diesem Training werden die Trails an den Wissenstand des Teams angepasst und die Basics weiter ausgebaut. Auf individuelle Schwierigkeiten je Mensch-Hunde-Team wird dabei größten Wert gelegt. \nNaherholung mal anders!
URL:https://www.suchhunde.wien/event/locationtrail-donauinsel-200818/
LOCATION:Wien\, 21.Bezirk – Donauinsel\, Donauinsel 1\, Wien\, 1210\, Österreich
CATEGORIES:(3) Events
ORGANIZER;CN="Sandra":MAILTO:sandra@suchhunde.wien
END:VEVENT
BEGIN:VEVENT
DTSTART;TZID=Europe/Vienna:20210724T210000
DTEND;TZID=Europe/Vienna:20210724T233000
DTSTAMP:20260420T120524
CREATED:20210705T083456Z
LAST-MODIFIED:20240306T074716Z
UID:60906-1627160400-1627169400@www.suchhunde.wien
SUMMARY:Vollmondtrail Donaupark *AUSVERKAUFT*
DESCRIPTION:Liebe Mondsüchtigen! \nBei unserem diesjährigen Vollmondtrail nützen wir die kühleren Stunde \nBei diesem Training werden die Trails an den Wissenstand des Teams angepasst und die Basics weiter ausgebaut. Bei den fortgeschrittenen Teams wird der Fokus vermehrt auf Leinenhandling und Suchtaktik gelegt. Ihr werdet als Team noch besser zusammenarbeiten und lernen verschiedenste Spuren zu differenzieren. Auf individuelle Schwierigkeiten je Mensch-Hunde-Team wird dabei größten Wert gelegt.
URL:https://www.suchhunde.wien/event/vollmond-210724/
LOCATION:Wien\, 21.Bezirk – Donauinsel\, Donauinsel 1\, Wien\, 1210\, Österreich
ORGANIZER;CN="Sandra":MAILTO:sandra@suchhunde.wien
END:VEVENT
BEGIN:VEVENT
DTSTART;TZID=Europe/Vienna:20231127T160000
DTEND;TZID=Europe/Vienna:20231127T200000
DTSTAMP:20260420T120524
CREATED:20230912T081617Z
LAST-MODIFIED:20231109T123951Z
UID:65289-1701100800-1701115200@www.suchhunde.wien
SUMMARY:*AUSVERKAUFT* Trainingstrail Wien21
DESCRIPTION:Liebe Mantrailer! \nBei diesem Training werden die Trails an den Wissenstand des Teams angepasst und die Basics weiter ausgebaut. Bei den fortgeschrittenen Teams wird der Fokus vermehrt auf Leinenhandling und Suchtaktik gelegt. Ihr werdet als Team noch besser zusammenarbeiten und lernen verschiedenste Spuren zu differenzieren. Auf individuelle Schwierigkeiten je Mensch-Hunde-Team wird dabei größten Wert gelegt.
URL:https://www.suchhunde.wien/event/trainingstrail-wien21-231127/
LOCATION:Wien\, 21.Bezirk – Donauinsel\, Donauinsel 1\, Wien\, 1210\, Österreich
CATEGORIES:(1) Training Wien
ATTACH;FMTTYPE=image/jpeg:https://www.suchhunde.wien/wp-content/uploads/2020/08/Dog-Shooting_013_new-scaled.jpg
ORGANIZER;CN="Sandra":MAILTO:sandra@suchhunde.wien
END:VEVENT
BEGIN:VEVENT
DTSTART;TZID=Europe/Vienna:20240812T160000
DTEND;TZID=Europe/Vienna:20240812T200000
DTSTAMP:20260420T120524
CREATED:20240721T142037Z
LAST-MODIFIED:20240924T084552Z
UID:67172-1723478400-1723492800@www.suchhunde.wien
SUMMARY:Trainingstrail Wien21
DESCRIPTION:Liebe Mantrailer! \nBei diesem Training werden die Trails an den Wissenstand des Teams angepasst und die Basics weiter ausgebaut. Bei den fortgeschrittenen Teams wird der Fokus vermehrt auf Leinenhandling und Suchtaktik gelegt. Ihr werdet als Team noch besser zusammenarbeiten und lernen verschiedenste Spuren zu differenzieren. Auf individuelle Schwierigkeiten je Mensch-Hunde-Team wird dabei größten Wert gelegt.
URL:https://www.suchhunde.wien/event/trainingstrail-wien22-240812/
LOCATION:Wien\, 21.Bezirk – Donauinsel\, Donauinsel 1\, Wien\, 1210\, Österreich
CATEGORIES:(1) Training Wien
ATTACH;FMTTYPE=image/jpeg:https://www.suchhunde.wien/wp-content/uploads/2020/08/Dog-Shooting_013_new-scaled.jpg
ORGANIZER;CN="Sandra":MAILTO:sandra@suchhunde.wien
END:VEVENT
BEGIN:VEVENT
DTSTART;TZID=Europe/Vienna:20250818T160000
DTEND;TZID=Europe/Vienna:20250818T200000
DTSTAMP:20260420T120524
CREATED:20250815T164944Z
LAST-MODIFIED:20250815T164944Z
UID:68902-1755532800-1755547200@www.suchhunde.wien
SUMMARY:Trainingstrail Wien21
DESCRIPTION:Liebe Mantrailer! \nBei diesem Training werden die Trails an den Wissenstand des Teams angepasst und die Basics weiter ausgebaut. Bei den fortgeschrittenen Teams wird der Fokus vermehrt auf Leinenhandling und Suchtaktik gelegt. Ihr werdet als Team noch besser zusammenarbeiten und lernen verschiedenste Spuren zu differenzieren. Auf individuelle Schwierigkeiten je Mensch-Hunde-Team wird dabei größten Wert gelegt.
URL:https://www.suchhunde.wien/event/trainingstrail-wien-250818/
LOCATION:Wien\, 21.Bezirk – Donauinsel\, Donauinsel 1\, Wien\, 1210\, Österreich
CATEGORIES:(1) Training Wien
ATTACH;FMTTYPE=image/jpeg:https://www.suchhunde.wien/wp-content/uploads/2020/08/Dog-Shooting_013_new-scaled.jpg
ORGANIZER;CN="Sandra":MAILTO:sandra@suchhunde.wien
END:VEVENT
END:VCALENDAR