BEGIN:VCALENDAR
VERSION:2.0
PRODID:-//suchhunde.wien | Professionelles Training mit Herz! - ECPv5.8.1//NONSGML v1.0//EN
CALSCALE:GREGORIAN
METHOD:PUBLISH
X-WR-CALNAME:suchhunde.wien | Professionelles Training mit Herz!
X-ORIGINAL-URL:https://www.suchhunde.wien
X-WR-CALDESC:Veranstaltungen für suchhunde.wien | Professionelles Training mit Herz!
BEGIN:VTIMEZONE
TZID:Europe/Vienna
BEGIN:DAYLIGHT
TZOFFSETFROM:+0100
TZOFFSETTO:+0200
TZNAME:CEST
DTSTART:20180325T010000
END:DAYLIGHT
BEGIN:STANDARD
TZOFFSETFROM:+0200
TZOFFSETTO:+0100
TZNAME:CET
DTSTART:20181028T010000
END:STANDARD
BEGIN:DAYLIGHT
TZOFFSETFROM:+0100
TZOFFSETTO:+0200
TZNAME:CEST
DTSTART:20190331T010000
END:DAYLIGHT
BEGIN:STANDARD
TZOFFSETFROM:+0200
TZOFFSETTO:+0100
TZNAME:CET
DTSTART:20191027T010000
END:STANDARD
BEGIN:DAYLIGHT
TZOFFSETFROM:+0100
TZOFFSETTO:+0200
TZNAME:CEST
DTSTART:20200329T010000
END:DAYLIGHT
BEGIN:STANDARD
TZOFFSETFROM:+0200
TZOFFSETTO:+0100
TZNAME:CET
DTSTART:20201025T010000
END:STANDARD
BEGIN:DAYLIGHT
TZOFFSETFROM:+0100
TZOFFSETTO:+0200
TZNAME:CEST
DTSTART:20210328T010000
END:DAYLIGHT
BEGIN:STANDARD
TZOFFSETFROM:+0200
TZOFFSETTO:+0100
TZNAME:CET
DTSTART:20211031T010000
END:STANDARD
BEGIN:DAYLIGHT
TZOFFSETFROM:+0100
TZOFFSETTO:+0200
TZNAME:CEST
DTSTART:20220327T010000
END:DAYLIGHT
BEGIN:STANDARD
TZOFFSETFROM:+0200
TZOFFSETTO:+0100
TZNAME:CET
DTSTART:20221030T010000
END:STANDARD
END:VTIMEZONE
BEGIN:VEVENT
DTSTART;TZID=Europe/Vienna:20180724T173000
DTEND;TZID=Europe/Vienna:20180724T193000
DTSTAMP:20260424T132537
CREATED:20180614T102649Z
LAST-MODIFIED:20210617T164227Z
UID:2127-1532453400-1532460600@www.suchhunde.wien
SUMMARY:Trainingstrail Wien16 *AUSVERKAUFT*
DESCRIPTION:Liebe Mantrailer! \nBei diesem Training werden die Trails an den Wissenstand des Teams angepasst und die Basics weiter ausgebaut. Bei den fortgeschrittenen Teams wird der Fokus vermehrt auf Leinenhandling und Suchtaktik gelegt. Ihr werdet als Team noch besser zusammenarbeiten und lernen verschiedenste Spuren zu differenzieren. Auf individuelle Schwierigkeiten je Mensch-Hunde-Team wird dabei größten Wert gelegt.
URL:https://www.suchhunde.wien/event/trainingstrail-wien16-180724/
LOCATION:Wien\, 16.Bezirk – Flötzersteig\, Kallinagasse 7\, Wien\, 1160\, Österreich
CATEGORIES:(1) Training Wien
ORGANIZER;CN="Sandra":MAILTO:sandra@suchhunde.wien
END:VEVENT
BEGIN:VEVENT
DTSTART;TZID=Europe/Vienna:20190312T173000
DTEND;TZID=Europe/Vienna:20190312T193000
DTSTAMP:20260424T132537
CREATED:20190222T195233Z
LAST-MODIFIED:20210617T164158Z
UID:2901-1552411800-1552419000@www.suchhunde.wien
SUMMARY:Trainingstrail Wien16
DESCRIPTION:Liebe Mantrailer! \nBei diesem Training werden die Trails an den Wissenstand des Teams angepasst und die Basics weiter ausgebaut. Bei den fortgeschrittenen Teams wird der Fokus vermehrt auf Leinenhandling und Suchtaktik gelegt. Ihr werdet als Team noch besser zusammenarbeiten und lernen verschiedenste Spuren zu differenzieren. Auf individuelle Schwierigkeiten je Mensch-Hunde-Team wird dabei größten Wert gelegt.
URL:https://www.suchhunde.wien/event/trainingstrail-wien16-190312/
LOCATION:Wien\, 16.Bezirk – Flötzersteig\, Kallinagasse 7\, Wien\, 1160\, Österreich
CATEGORIES:(1) Training Wien
ORGANIZER;CN="Sandra":MAILTO:sandra@suchhunde.wien
END:VEVENT
BEGIN:VEVENT
DTSTART;TZID=Europe/Vienna:20191008T180000
DTEND;TZID=Europe/Vienna:20191008T200000
DTSTAMP:20260424T132537
CREATED:20190901T161655Z
LAST-MODIFIED:20210617T164156Z
UID:3320-1570557600-1570564800@www.suchhunde.wien
SUMMARY:Trainingstrail Wien 16
DESCRIPTION:Liebe Mantrailer! \nBei diesem Training werden die Trails an den Wissenstand des Teams angepasst und die Basics weiter ausgebaut. Bei den fortgeschrittenen Teams wird der Fokus vermehrt auf Leinenhandling und Suchtaktik gelegt. Ihr werdet als Team noch besser zusammenarbeiten und lernen verschiedenste Spuren zu differenzieren. Auf individuelle Schwierigkeiten je Mensch-Hunde-Team wird dabei größten Wert gelegt.
URL:https://www.suchhunde.wien/event/trainingstrail-wien16-20191008/
LOCATION:Wien\, 16.Bezirk – Flötzersteig\, Kallinagasse 7\, Wien\, 1160\, Österreich
CATEGORIES:(1) Training Wien
ATTACH;FMTTYPE=image/jpeg:https://www.suchhunde.wien/wp-content/uploads/2017/04/davidbitzan_trailing-8.jpg
ORGANIZER;CN="Sandra":MAILTO:sandra@suchhunde.wien
END:VEVENT
BEGIN:VEVENT
DTSTART;TZID=Europe/Vienna:20200707T180000
DTEND;TZID=Europe/Vienna:20200707T200000
DTSTAMP:20260424T132537
CREATED:20200625T133247Z
LAST-MODIFIED:20210617T164120Z
UID:3945-1594144800-1594152000@www.suchhunde.wien
SUMMARY:*AUSVERKAUFT* Trainingstrail Wien 14
DESCRIPTION:Liebe Mantrailer! \nBei diesem Training werden die Trails an den Wissenstand des Teams angepasst und die Basics weiter ausgebaut. Bei den fortgeschrittenen Teams wird der Fokus vermehrt auf Leinenhandling und Suchtaktik gelegt. Ihr werdet als Team noch besser zusammenarbeiten und lernen verschiedenste Spuren zu differenzieren. Auf individuelle Schwierigkeiten je Mensch-Hunde-Team wird dabei größten Wert gelegt.
URL:https://www.suchhunde.wien/event/trainingstrail-wien14-200707/
LOCATION:Wien\, 16.Bezirk – Flötzersteig\, Kallinagasse 7\, Wien\, 1160\, Österreich
CATEGORIES:(1) Training Wien
ATTACH;FMTTYPE=image/jpeg:https://www.suchhunde.wien/wp-content/uploads/2017/04/davidbitzan_trailing-8.jpg
ORGANIZER;CN="Sandra":MAILTO:sandra@suchhunde.wien
END:VEVENT
BEGIN:VEVENT
DTSTART;TZID=Europe/Vienna:20220329T153000
DTEND;TZID=Europe/Vienna:20220329T193000
DTSTAMP:20260424T132537
CREATED:20220227T181719Z
LAST-MODIFIED:20220227T181719Z
UID:61925-1648567800-1648582200@www.suchhunde.wien
SUMMARY:Trainingstrail Wien 16
DESCRIPTION:Liebe Mantrailer! \nBei diesem Training werden die Trails an den Wissenstand des Teams angepasst und die Basics weiter ausgebaut. Bei den fortgeschrittenen Teams wird der Fokus vermehrt auf Leinenhandling und Suchtaktik gelegt. Ihr werdet als Team noch besser zusammenarbeiten und lernen verschiedenste Spuren zu differenzieren. Auf individuelle Schwierigkeiten je Mensch-Hunde-Team wird dabei größten Wert gelegt.
URL:https://www.suchhunde.wien/event/trainingstrail-wien16-220329/
LOCATION:Wien\, 16.Bezirk – Flötzersteig\, Kallinagasse 7\, Wien\, 1160\, Österreich
CATEGORIES:(1) Training Wien
ATTACH;FMTTYPE=image/jpeg:https://www.suchhunde.wien/wp-content/uploads/2020/08/Dog-Shooting_013_new-scaled.jpg
ORGANIZER;CN="Sandra":MAILTO:sandra@suchhunde.wien
END:VEVENT
END:VCALENDAR