BEGIN:VCALENDAR
VERSION:2.0
PRODID:-//suchhunde.wien | Professionelles Training mit Herz! - ECPv5.8.1//NONSGML v1.0//EN
CALSCALE:GREGORIAN
METHOD:PUBLISH
X-WR-CALNAME:suchhunde.wien | Professionelles Training mit Herz!
X-ORIGINAL-URL:https://www.suchhunde.wien
X-WR-CALDESC:Veranstaltungen für suchhunde.wien | Professionelles Training mit Herz!
BEGIN:VTIMEZONE
TZID:Europe/Vienna
BEGIN:DAYLIGHT
TZOFFSETFROM:+0100
TZOFFSETTO:+0200
TZNAME:CEST
DTSTART:20180325T010000
END:DAYLIGHT
BEGIN:STANDARD
TZOFFSETFROM:+0200
TZOFFSETTO:+0100
TZNAME:CET
DTSTART:20181028T010000
END:STANDARD
BEGIN:DAYLIGHT
TZOFFSETFROM:+0100
TZOFFSETTO:+0200
TZNAME:CEST
DTSTART:20190331T010000
END:DAYLIGHT
BEGIN:STANDARD
TZOFFSETFROM:+0200
TZOFFSETTO:+0100
TZNAME:CET
DTSTART:20191027T010000
END:STANDARD
BEGIN:DAYLIGHT
TZOFFSETFROM:+0100
TZOFFSETTO:+0200
TZNAME:CEST
DTSTART:20200329T010000
END:DAYLIGHT
BEGIN:STANDARD
TZOFFSETFROM:+0200
TZOFFSETTO:+0100
TZNAME:CET
DTSTART:20201025T010000
END:STANDARD
BEGIN:DAYLIGHT
TZOFFSETFROM:+0100
TZOFFSETTO:+0200
TZNAME:CEST
DTSTART:20210328T010000
END:DAYLIGHT
BEGIN:STANDARD
TZOFFSETFROM:+0200
TZOFFSETTO:+0100
TZNAME:CET
DTSTART:20211031T010000
END:STANDARD
BEGIN:DAYLIGHT
TZOFFSETFROM:+0100
TZOFFSETTO:+0200
TZNAME:CEST
DTSTART:20220327T010000
END:DAYLIGHT
BEGIN:STANDARD
TZOFFSETFROM:+0200
TZOFFSETTO:+0100
TZNAME:CET
DTSTART:20221030T010000
END:STANDARD
BEGIN:DAYLIGHT
TZOFFSETFROM:+0100
TZOFFSETTO:+0200
TZNAME:CEST
DTSTART:20230326T010000
END:DAYLIGHT
BEGIN:STANDARD
TZOFFSETFROM:+0200
TZOFFSETTO:+0100
TZNAME:CET
DTSTART:20231029T010000
END:STANDARD
BEGIN:DAYLIGHT
TZOFFSETFROM:+0100
TZOFFSETTO:+0200
TZNAME:CEST
DTSTART:20240331T010000
END:DAYLIGHT
BEGIN:STANDARD
TZOFFSETFROM:+0200
TZOFFSETTO:+0100
TZNAME:CET
DTSTART:20241027T010000
END:STANDARD
BEGIN:DAYLIGHT
TZOFFSETFROM:+0100
TZOFFSETTO:+0200
TZNAME:CEST
DTSTART:20250330T010000
END:DAYLIGHT
BEGIN:STANDARD
TZOFFSETFROM:+0200
TZOFFSETTO:+0100
TZNAME:CET
DTSTART:20251026T010000
END:STANDARD
END:VTIMEZONE
BEGIN:VEVENT
DTSTART;TZID=Europe/Vienna:20181023T180000
DTEND;TZID=Europe/Vienna:20181023T200000
DTSTAMP:20260420T133853
CREATED:20180918T101042Z
LAST-MODIFIED:20210617T164200Z
UID:2427-1540317600-1540324800@www.suchhunde.wien
SUMMARY:Trainingstrail Wien12 *AUSVERKAUFT*
DESCRIPTION:Liebe Mantrailer! \nBei diesem Training werden die Trails an den Wissenstand des Teams angepasst und die Basics weiter ausgebaut. Bei den fortgeschrittenen Teams wird der Fokus vermehrt auf Leinenhandling und Suchtaktik gelegt. Ihr werdet als Team noch besser zusammenarbeiten und lernen verschiedenste Spuren zu differenzieren. Auf individuelle Schwierigkeiten je Mensch-Hunde-Team wird dabei größten Wert gelegt.
URL:https://www.suchhunde.wien/event/trainingstrail-wien12-181023/
LOCATION:Wien\, 12.Bezirk – Kabelwerk\, Thorvaldsengasse 21\, Wien\, 1120\, Österreich
CATEGORIES:(1) Training Wien
ATTACH;FMTTYPE=image/jpeg:https://www.suchhunde.wien/wp-content/uploads/2017/04/IMG-20150320-WA0003-e1491913219394.jpg
ORGANIZER;CN="Sandra":MAILTO:sandra@suchhunde.wien
END:VEVENT
BEGIN:VEVENT
DTSTART;TZID=Europe/Vienna:20200218T180000
DTEND;TZID=Europe/Vienna:20200218T200000
DTSTAMP:20260420T133853
CREATED:20200201T184616Z
LAST-MODIFIED:20210617T164121Z
UID:3681-1582048800-1582056000@www.suchhunde.wien
SUMMARY:Trainingstrail Wien 12
DESCRIPTION:Liebe Mantrailer! \nBei diesem Training werden die Trails an den Wissenstand des Teams angepasst und die Basics weiter ausgebaut. Bei den fortgeschrittenen Teams wird der Fokus vermehrt auf Leinenhandling und Suchtaktik gelegt. Ihr werdet als Team noch besser zusammenarbeiten und lernen verschiedenste Spuren zu differenzieren. Auf individuelle Schwierigkeiten je Mensch-Hunde-Team wird dabei größten Wert gelegt.
URL:https://www.suchhunde.wien/event/trainingstrail-wien12-200218/
LOCATION:Wien\, 12.Bezirk – Kabelwerk\, Thorvaldsengasse 21\, Wien\, 1120\, Österreich
CATEGORIES:(1) Training Wien
ORGANIZER;CN="Sandra":MAILTO:sandra@suchhunde.wien
END:VEVENT
BEGIN:VEVENT
DTSTART;TZID=Europe/Vienna:20220201T153000
DTEND;TZID=Europe/Vienna:20220201T193000
DTSTAMP:20260420T133853
CREATED:20220120T141427Z
LAST-MODIFIED:20220120T141646Z
UID:61831-1643729400-1643743800@www.suchhunde.wien
SUMMARY:Trainingstrail Wien 23
DESCRIPTION:Liebe Mantrailer! \nBei diesem Training werden die Trails an den Wissenstand des Teams angepasst und die Basics weiter ausgebaut. Bei den fortgeschrittenen Teams wird der Fokus vermehrt auf Leinenhandling und Suchtaktik gelegt. Ihr werdet als Team noch besser zusammenarbeiten und lernen verschiedenste Spuren zu differenzieren. Auf individuelle Schwierigkeiten je Mensch-Hunde-Team wird dabei größten Wert gelegt.
URL:https://www.suchhunde.wien/event/trainingstrail-wien23-220201/
LOCATION:Wien\, 12.Bezirk – Kabelwerk\, Thorvaldsengasse 21\, Wien\, 1120\, Österreich
CATEGORIES:(1) Training Wien
ATTACH;FMTTYPE=image/jpeg:https://www.suchhunde.wien/wp-content/uploads/2017/04/davidbitzan_trailing-8.jpg
ORGANIZER;CN="Sandra":MAILTO:sandra@suchhunde.wien
END:VEVENT
BEGIN:VEVENT
DTSTART;TZID=Europe/Vienna:20220517T153000
DTEND;TZID=Europe/Vienna:20220517T193000
DTSTAMP:20260420T133853
CREATED:20220421T075604Z
LAST-MODIFIED:20220421T075604Z
UID:62196-1652801400-1652815800@www.suchhunde.wien
SUMMARY:Trainingstrail Wien 12
DESCRIPTION:Liebe Mantrailer! \nBei diesem Training werden die Trails an den Wissenstand des Teams angepasst und die Basics weiter ausgebaut. Bei den fortgeschrittenen Teams wird der Fokus vermehrt auf Leinenhandling und Suchtaktik gelegt. Ihr werdet als Team noch besser zusammenarbeiten und lernen verschiedenste Spuren zu differenzieren. Auf individuelle Schwierigkeiten je Mensch-Hunde-Team wird dabei größten Wert gelegt.
URL:https://www.suchhunde.wien/event/trainingstrail-wien12-220517/
LOCATION:Wien\, 12.Bezirk – Kabelwerk\, Thorvaldsengasse 21\, Wien\, 1120\, Österreich
CATEGORIES:(1) Training Wien
ATTACH;FMTTYPE=image/jpeg:https://www.suchhunde.wien/wp-content/uploads/2020/08/Dog-Shooting_013_new-scaled.jpg
ORGANIZER;CN="Sandra":MAILTO:sandra@suchhunde.wien
END:VEVENT
BEGIN:VEVENT
DTSTART;TZID=Europe/Vienna:20221129T153000
DTEND;TZID=Europe/Vienna:20221129T193000
DTSTAMP:20260420T133853
CREATED:20221027T102753Z
LAST-MODIFIED:20221108T082642Z
UID:63111-1669735800-1669750200@www.suchhunde.wien
SUMMARY:*AUSVERKAUFT* Trainingstrail Wien12
DESCRIPTION:Liebe Mantrailer! \nBei diesem Training werden die Trails an den Wissenstand des Teams angepasst und die Basics weiter ausgebaut. Bei den fortgeschrittenen Teams wird der Fokus vermehrt auf Leinenhandling und Suchtaktik gelegt. Ihr werdet als Team noch besser zusammenarbeiten und lernen verschiedenste Spuren zu differenzieren. Auf individuelle Schwierigkeiten je Mensch-Hunde-Team wird dabei größten Wert gelegt.
URL:https://www.suchhunde.wien/event/trainingstrail-wien12-221129/
LOCATION:Wien\, 12.Bezirk – Kabelwerk\, Thorvaldsengasse 21\, Wien\, 1120\, Österreich
CATEGORIES:(1) Training Wien
ATTACH;FMTTYPE=image/jpeg:https://www.suchhunde.wien/wp-content/uploads/2020/08/Dog-Shooting_013_new-scaled.jpg
ORGANIZER;CN="Sandra":MAILTO:sandra@suchhunde.wien
END:VEVENT
BEGIN:VEVENT
DTSTART;TZID=Europe/Vienna:20221213T153000
DTEND;TZID=Europe/Vienna:20221213T193000
DTSTAMP:20260420T133853
CREATED:20221124T114347Z
LAST-MODIFIED:20221206T092456Z
UID:63275-1670945400-1670959800@www.suchhunde.wien
SUMMARY:*AUSVERKAUFT* Trainingstrail Wien 12
DESCRIPTION:Liebe Mantrailer! \nBei diesem Training werden die Trails an den Wissenstand des Teams angepasst und die Basics weiter ausgebaut. Bei den fortgeschrittenen Teams wird der Fokus vermehrt auf Leinenhandling und Suchtaktik gelegt. Ihr werdet als Team noch besser zusammenarbeiten und lernen verschiedenste Spuren zu differenzieren. Auf individuelle Schwierigkeiten je Mensch-Hunde-Team wird dabei größten Wert gelegt.
URL:https://www.suchhunde.wien/event/trainingstrail-wien12-221213/
LOCATION:Wien\, 12.Bezirk – Kabelwerk\, Thorvaldsengasse 21\, Wien\, 1120\, Österreich
CATEGORIES:(1) Training Wien
ATTACH;FMTTYPE=image/jpeg:https://www.suchhunde.wien/wp-content/uploads/2020/08/Dog-Shooting_013_new-scaled.jpg
ORGANIZER;CN="Sandra":MAILTO:sandra@suchhunde.wien
END:VEVENT
BEGIN:VEVENT
DTSTART;TZID=Europe/Vienna:20230420T170000
DTEND;TZID=Europe/Vienna:20230420T190000
DTSTAMP:20260420T133853
CREATED:20230306T114740Z
LAST-MODIFIED:20230308T183354Z
UID:64106-1682010000-1682017200@www.suchhunde.wien
SUMMARY:*AUSVERKAUFT* Trainingstrail Vösendorf
DESCRIPTION:Liebe Mantrailer! \nBei diesem Training werden die Trails an den Wissenstand des Teams angepasst und die Basics weiter ausgebaut. Bei den fortgeschrittenen Teams wird der Fokus vermehrt auf Leinenhandling und Suchtaktik gelegt. Ihr werdet als Team noch besser zusammenarbeiten und lernen verschiedenste Spuren zu differenzieren. Auf individuelle Schwierigkeiten je Mensch-Hunde-Team wird dabei größten Wert gelegt.
URL:https://www.suchhunde.wien/event/trainingstrail-voesendorf-230420/
LOCATION:Wien\, 12.Bezirk – Kabelwerk\, Thorvaldsengasse 21\, Wien\, 1120\, Österreich
CATEGORIES:(1) Training Wien
ATTACH;FMTTYPE=image/jpeg:https://www.suchhunde.wien/wp-content/uploads/2020/08/Dog-Shooting_013_new-scaled.jpg
ORGANIZER;CN="Sandra":MAILTO:sandra@suchhunde.wien
END:VEVENT
BEGIN:VEVENT
DTSTART;TZID=Europe/Vienna:20230926T153000
DTEND;TZID=Europe/Vienna:20230926T193000
DTSTAMP:20260420T133853
CREATED:20230604T121324Z
LAST-MODIFIED:20230912T081619Z
UID:64797-1695742200-1695756600@www.suchhunde.wien
SUMMARY:*AUSVERKAUFT* Trainingstrail Wien12
DESCRIPTION:Liebe Mantrailer! \nBei diesem Training werden die Trails an den Wissenstand des Teams angepasst und die Basics weiter ausgebaut. Bei den fortgeschrittenen Teams wird der Fokus vermehrt auf Leinenhandling und Suchtaktik gelegt. Ihr werdet als Team noch besser zusammenarbeiten und lernen verschiedenste Spuren zu differenzieren. Auf individuelle Schwierigkeiten je Mensch-Hunde-Team wird dabei größten Wert gelegt.
URL:https://www.suchhunde.wien/event/trainingstrail-wien12-230926/
LOCATION:Wien\, 12.Bezirk – Kabelwerk\, Thorvaldsengasse 21\, Wien\, 1120\, Österreich
CATEGORIES:(1) Training Wien
ATTACH;FMTTYPE=image/jpeg:https://www.suchhunde.wien/wp-content/uploads/2020/08/Dog-Shooting_013_new-scaled.jpg
ORGANIZER;CN="Sandra":MAILTO:sandra@suchhunde.wien
END:VEVENT
BEGIN:VEVENT
DTSTART;TZID=Europe/Vienna:20231128T153000
DTEND;TZID=Europe/Vienna:20231128T193000
DTSTAMP:20260420T133853
CREATED:20230912T081617Z
LAST-MODIFIED:20230912T081617Z
UID:65324-1701185400-1701199800@www.suchhunde.wien
SUMMARY:Trainingstrail Wien12
DESCRIPTION:Liebe Mantrailer! \nBei diesem Training werden die Trails an den Wissenstand des Teams angepasst und die Basics weiter ausgebaut. Bei den fortgeschrittenen Teams wird der Fokus vermehrt auf Leinenhandling und Suchtaktik gelegt. Ihr werdet als Team noch besser zusammenarbeiten und lernen verschiedenste Spuren zu differenzieren. Auf individuelle Schwierigkeiten je Mensch-Hunde-Team wird dabei größten Wert gelegt.
URL:https://www.suchhunde.wien/event/trainingstrail-wien12-231128/
LOCATION:Wien\, 12.Bezirk – Kabelwerk\, Thorvaldsengasse 21\, Wien\, 1120\, Österreich
CATEGORIES:(1) Training Wien
ATTACH;FMTTYPE=image/jpeg:https://www.suchhunde.wien/wp-content/uploads/2020/08/Dog-Shooting_013_new-scaled.jpg
ORGANIZER;CN="Sandra":MAILTO:sandra@suchhunde.wien
END:VEVENT
BEGIN:VEVENT
DTSTART;TZID=Europe/Vienna:20250128T153000
DTEND;TZID=Europe/Vienna:20250128T193000
DTSTAMP:20260420T133853
CREATED:20241215T101618Z
LAST-MODIFIED:20241215T101618Z
UID:67821-1738078200-1738092600@www.suchhunde.wien
SUMMARY:Trainingstrail Wien12
DESCRIPTION:Liebe Mantrailer! \nBei diesem Training werden die Trails an den Wissenstand des Teams angepasst und die Basics weiter ausgebaut. Bei den fortgeschrittenen Teams wird der Fokus vermehrt auf Leinenhandling und Suchtaktik gelegt. Ihr werdet als Team noch besser zusammenarbeiten und lernen verschiedenste Spuren zu differenzieren. Auf individuelle Schwierigkeiten je Mensch-Hunde-Team wird dabei größten Wert gelegt.
URL:https://www.suchhunde.wien/event/trainingstrail-wien12-250128/
LOCATION:Wien\, 12.Bezirk – Kabelwerk\, Thorvaldsengasse 21\, Wien\, 1120\, Österreich
CATEGORIES:(1) Training Wien
ATTACH;FMTTYPE=image/jpeg:https://www.suchhunde.wien/wp-content/uploads/2020/08/Dog-Shooting_013_new-scaled.jpg
ORGANIZER;CN="Sandra":MAILTO:sandra@suchhunde.wien
END:VEVENT
END:VCALENDAR