BEGIN:VCALENDAR
VERSION:2.0
PRODID:-//suchhunde.wien | Professionelles Training mit Herz! - ECPv5.8.1//NONSGML v1.0//EN
CALSCALE:GREGORIAN
METHOD:PUBLISH
X-WR-CALNAME:suchhunde.wien | Professionelles Training mit Herz!
X-ORIGINAL-URL:https://www.suchhunde.wien
X-WR-CALDESC:Veranstaltungen für suchhunde.wien | Professionelles Training mit Herz!
BEGIN:VTIMEZONE
TZID:Europe/Vienna
BEGIN:DAYLIGHT
TZOFFSETFROM:+0100
TZOFFSETTO:+0200
TZNAME:CEST
DTSTART:20180325T010000
END:DAYLIGHT
BEGIN:STANDARD
TZOFFSETFROM:+0200
TZOFFSETTO:+0100
TZNAME:CET
DTSTART:20181028T010000
END:STANDARD
BEGIN:DAYLIGHT
TZOFFSETFROM:+0100
TZOFFSETTO:+0200
TZNAME:CEST
DTSTART:20190331T010000
END:DAYLIGHT
BEGIN:STANDARD
TZOFFSETFROM:+0200
TZOFFSETTO:+0100
TZNAME:CET
DTSTART:20191027T010000
END:STANDARD
BEGIN:DAYLIGHT
TZOFFSETFROM:+0100
TZOFFSETTO:+0200
TZNAME:CEST
DTSTART:20200329T010000
END:DAYLIGHT
BEGIN:STANDARD
TZOFFSETFROM:+0200
TZOFFSETTO:+0100
TZNAME:CET
DTSTART:20201025T010000
END:STANDARD
BEGIN:DAYLIGHT
TZOFFSETFROM:+0100
TZOFFSETTO:+0200
TZNAME:CEST
DTSTART:20210328T010000
END:DAYLIGHT
BEGIN:STANDARD
TZOFFSETFROM:+0200
TZOFFSETTO:+0100
TZNAME:CET
DTSTART:20211031T010000
END:STANDARD
BEGIN:DAYLIGHT
TZOFFSETFROM:+0100
TZOFFSETTO:+0200
TZNAME:CEST
DTSTART:20220327T010000
END:DAYLIGHT
BEGIN:STANDARD
TZOFFSETFROM:+0200
TZOFFSETTO:+0100
TZNAME:CET
DTSTART:20221030T010000
END:STANDARD
BEGIN:DAYLIGHT
TZOFFSETFROM:+0100
TZOFFSETTO:+0200
TZNAME:CEST
DTSTART:20230326T010000
END:DAYLIGHT
BEGIN:STANDARD
TZOFFSETFROM:+0200
TZOFFSETTO:+0100
TZNAME:CET
DTSTART:20231029T010000
END:STANDARD
END:VTIMEZONE
BEGIN:VEVENT
DTSTART;TZID=Europe/Vienna:20181028T100000
DTEND;TZID=Europe/Vienna:20181028T170000
DTSTAMP:20260421T020218
CREATED:20180911T105547Z
LAST-MODIFIED:20210617T164200Z
UID:2409-1540720800-1540746000@www.suchhunde.wien
SUMMARY:TRAIL OHNE ENDE
DESCRIPTION:Liebe Intensivtrailer! \nBei unserem heutigen Trail werden eure Hunde die Länge und Dauer vorgeben!\nGerade bei Einsätzen kommt es häufig vor\, dass der Hund am Ende seines Trails niemanden vorfinden kann. Auch das muss durchaus auch mal geübt und vor allem positiv belegt werden! Die Hunde haben ja dennoch gut gearbeitet und bekommen dann von ihren Hundeführern ihre Belohnung für ihre tolle Arbeit.\nWie lange und weit die Hunde heute trailen wird direkt beim Trail entschieden. Je nach Trainingsstand und sonstigen Bedingungen kann dies natürlich abweichen. \nDer Trail wird im beruhigten Stadtgebiet stattfinden. Die Spur wird schon ein paar Stunden alt sein.\nDie Einteilung der Teams – sowie ungefähre Zeit und Ort – passiert nach abgeschlossener Anmeldung. Bitte um Verständnis\, dass natürlich nur für den ersten Hund die genaue Zeit und der Startort angegeben werden kann. Für alle anderen wird es ungefähre Zeitslots geben. \nEine tolle Möglichkeit für alle Teams die als Ziel die Einsatzfähigkeit haben\, oder auch wissen möchten\, wie sich ihr Hund verhält wenn am Ende mal keine VP zu finden ist. \nEnde garantiert 🙂 \n  \nP.s.: Bitte beachte\, dass dieses Event gegebenenfalls noch nicht für deinen Hund geeignet sein könnte. Falls du dir nicht sicher bist\, kannst du gerne Rücksprache mit Sandra halten. Wir werden dann den Trainingsstand deines Hundes besprechen und abwiegen.
URL:https://www.suchhunde.wien/event/trailohneende-181028/
LOCATION:Wien\, 10.Bezirk – Stefan Fadinger Platz\, Stefan-Fadinger-Platz\, Wien\, 1100\, Österreich
CATEGORIES:(3) Events
ORGANIZER;CN="Sandra":MAILTO:sandra@suchhunde.wien
END:VEVENT
BEGIN:VEVENT
DTSTART;TZID=Europe/Vienna:20181109T170000
DTEND;TZID=Europe/Vienna:20181109T190000
DTSTAMP:20260421T020218
CREATED:20181025T131228Z
LAST-MODIFIED:20210617T164200Z
UID:2540-1541782800-1541790000@www.suchhunde.wien
SUMMARY:Trainingstrail Wien10
DESCRIPTION:Liebe Mantrailer! \nBei diesem Training werden die Trails an den Wissenstand des Teams angepasst und die Basics weiter ausgebaut. Bei den fortgeschrittenen Teams wird der Fokus vermehrt auf Leinenhandling und Suchtaktik gelegt. Ihr werdet als Team noch besser zusammenarbeiten und lernen verschiedenste Spuren zu differenzieren. Auf individuelle Schwierigkeiten je Mensch-Hunde-Team wird dabei größten Wert gelegt.
URL:https://www.suchhunde.wien/event/trainingstrail-wien10-181109/
LOCATION:Wien\, 10.Bezirk – Stefan Fadinger Platz\, Stefan-Fadinger-Platz\, Wien\, 1100\, Österreich
CATEGORIES:(1) Training Wien
ORGANIZER;CN="Sandra":MAILTO:sandra@suchhunde.wien
END:VEVENT
BEGIN:VEVENT
DTSTART;TZID=Europe/Vienna:20200324T180000
DTEND;TZID=Europe/Vienna:20200324T200000
DTSTAMP:20260421T020218
CREATED:20200227T140427Z
LAST-MODIFIED:20210617T164121Z
UID:3750-1585072800-1585080000@www.suchhunde.wien
SUMMARY:Trainingstrail Wien 10
DESCRIPTION:Liebe Mantrailer! \nBei diesem Training werden die Trails an den Wissenstand des Teams angepasst und die Basics weiter ausgebaut. Bei den fortgeschrittenen Teams wird der Fokus vermehrt auf Leinenhandling und Suchtaktik gelegt. Ihr werdet als Team noch besser zusammenarbeiten und lernen verschiedenste Spuren zu differenzieren. Auf individuelle Schwierigkeiten je Mensch-Hunde-Team wird dabei größten Wert gelegt.
URL:https://www.suchhunde.wien/event/trainingstrail-wien10-200324/
LOCATION:Wien\, 10.Bezirk – Stefan Fadinger Platz\, Stefan-Fadinger-Platz\, Wien\, 1100\, Österreich
CATEGORIES:(1) Training Wien
ATTACH;FMTTYPE=image/jpeg:https://www.suchhunde.wien/wp-content/uploads/2017/04/davidbitzan_trailing-8.jpg
ORGANIZER;CN="Sandra":MAILTO:sandra@suchhunde.wien
END:VEVENT
BEGIN:VEVENT
DTSTART;TZID=Europe/Vienna:20220419T153000
DTEND;TZID=Europe/Vienna:20220419T193000
DTSTAMP:20260421T020218
CREATED:20220321T094826Z
LAST-MODIFIED:20220414T104929Z
UID:62079-1650382200-1650396600@www.suchhunde.wien
SUMMARY:Trainingstrail Wien 10
DESCRIPTION:Liebe Mantrailer! \nBei diesem Training werden die Trails an den Wissenstand des Teams angepasst und die Basics weiter ausgebaut. Bei den fortgeschrittenen Teams wird der Fokus vermehrt auf Leinenhandling und Suchtaktik gelegt. Ihr werdet als Team noch besser zusammenarbeiten und lernen verschiedenste Spuren zu differenzieren. Auf individuelle Schwierigkeiten je Mensch-Hunde-Team wird dabei größten Wert gelegt.
URL:https://www.suchhunde.wien/event/trainingstrail-wien10-220419/
LOCATION:Wien\, 10.Bezirk – Stefan Fadinger Platz\, Stefan-Fadinger-Platz\, Wien\, 1100\, Österreich
CATEGORIES:(1) Training Wien
ATTACH;FMTTYPE=image/jpeg:https://www.suchhunde.wien/wp-content/uploads/2020/08/Dog-Shooting_013_new-scaled.jpg
ORGANIZER;CN="Sandra":MAILTO:sandra@suchhunde.wien
END:VEVENT
BEGIN:VEVENT
DTSTART;TZID=Europe/Vienna:20230620T173000
DTEND;TZID=Europe/Vienna:20230620T190000
DTSTAMP:20260421T020218
CREATED:20230306T114738Z
LAST-MODIFIED:20230618T150807Z
UID:64149-1687282200-1687287600@www.suchhunde.wien
SUMMARY:Trainingstrail Wien10
DESCRIPTION:Liebe Mantrailer! \nBei diesem Training werden die Trails an den Wissenstand des Teams angepasst und die Basics weiter ausgebaut. Bei den fortgeschrittenen Teams wird der Fokus vermehrt auf Leinenhandling und Suchtaktik gelegt. Ihr werdet als Team noch besser zusammenarbeiten und lernen verschiedenste Spuren zu differenzieren. Auf individuelle Schwierigkeiten je Mensch-Hunde-Team wird dabei größten Wert gelegt.
URL:https://www.suchhunde.wien/event/trainingstrail-wien10-230620/
LOCATION:Wien\, 10.Bezirk – Stefan Fadinger Platz\, Stefan-Fadinger-Platz\, Wien\, 1100\, Österreich
CATEGORIES:(1) Training Wien
ATTACH;FMTTYPE=image/jpeg:https://www.suchhunde.wien/wp-content/uploads/2020/08/Dog-Shooting_013_new-scaled.jpg
ORGANIZER;CN="Sandra":MAILTO:sandra@suchhunde.wien
END:VEVENT
BEGIN:VEVENT
DTSTART;TZID=Europe/Vienna:20230622T170000
DTEND;TZID=Europe/Vienna:20230622T190000
DTSTAMP:20260421T020218
CREATED:20230306T114738Z
LAST-MODIFIED:20230614T093855Z
UID:64131-1687453200-1687460400@www.suchhunde.wien
SUMMARY:*AUSVERKAUFT* Trainingstrail Wien10
DESCRIPTION:Liebe Mantrailer! \nBei diesem Training werden die Trails an den Wissenstand des Teams angepasst und die Basics weiter ausgebaut. Bei den fortgeschrittenen Teams wird der Fokus vermehrt auf Leinenhandling und Suchtaktik gelegt. Ihr werdet als Team noch besser zusammenarbeiten und lernen verschiedenste Spuren zu differenzieren. Auf individuelle Schwierigkeiten je Mensch-Hunde-Team wird dabei größten Wert gelegt.
URL:https://www.suchhunde.wien/event/trainingstrail-wien10-230622/
LOCATION:Wien\, 10.Bezirk – Stefan Fadinger Platz\, Stefan-Fadinger-Platz\, Wien\, 1100\, Österreich
CATEGORIES:(1) Training Wien
ATTACH;FMTTYPE=image/jpeg:https://www.suchhunde.wien/wp-content/uploads/2020/08/Dog-Shooting_013_new-scaled.jpg
ORGANIZER;CN="Sandra":MAILTO:sandra@suchhunde.wien
END:VEVENT
BEGIN:VEVENT
DTSTART;TZID=Europe/Vienna:20230919T153000
DTEND;TZID=Europe/Vienna:20230919T193000
DTSTAMP:20260421T020218
CREATED:20230604T121324Z
LAST-MODIFIED:20230912T081620Z
UID:64793-1695137400-1695151800@www.suchhunde.wien
SUMMARY:Trainingstrail Wien10
DESCRIPTION:Liebe Mantrailer! \nBei diesem Training werden die Trails an den Wissenstand des Teams angepasst und die Basics weiter ausgebaut. Bei den fortgeschrittenen Teams wird der Fokus vermehrt auf Leinenhandling und Suchtaktik gelegt. Ihr werdet als Team noch besser zusammenarbeiten und lernen verschiedenste Spuren zu differenzieren. Auf individuelle Schwierigkeiten je Mensch-Hunde-Team wird dabei größten Wert gelegt.
URL:https://www.suchhunde.wien/event/trainingstrail-wien10-230919/
LOCATION:Wien\, 10.Bezirk – Stefan Fadinger Platz\, Stefan-Fadinger-Platz\, Wien\, 1100\, Österreich
CATEGORIES:(1) Training Wien
ATTACH;FMTTYPE=image/jpeg:https://www.suchhunde.wien/wp-content/uploads/2020/08/Dog-Shooting_013_new-scaled.jpg
ORGANIZER;CN="Sandra":MAILTO:sandra@suchhunde.wien
END:VEVENT
END:VCALENDAR