BEGIN:VCALENDAR
VERSION:2.0
PRODID:-//suchhunde.wien | Professionelles Training mit Herz! - ECPv5.8.1//NONSGML v1.0//EN
CALSCALE:GREGORIAN
METHOD:PUBLISH
X-WR-CALNAME:suchhunde.wien | Professionelles Training mit Herz!
X-ORIGINAL-URL:https://www.suchhunde.wien
X-WR-CALDESC:Veranstaltungen für suchhunde.wien | Professionelles Training mit Herz!
BEGIN:VTIMEZONE
TZID:Europe/Vienna
BEGIN:DAYLIGHT
TZOFFSETFROM:+0100
TZOFFSETTO:+0200
TZNAME:CEST
DTSTART:20260329T010000
END:DAYLIGHT
BEGIN:STANDARD
TZOFFSETFROM:+0200
TZOFFSETTO:+0100
TZNAME:CET
DTSTART:20261025T010000
END:STANDARD
END:VTIMEZONE
BEGIN:VEVENT
DTSTART;TZID=Europe/Vienna:20260501T100000
DTEND;TZID=Europe/Vienna:20260501T150000
DTSTAMP:20260419T195415
CREATED:20260315T094514Z
LAST-MODIFIED:20260317T092614Z
UID:70310-1777629600-1777647600@www.suchhunde.wien
SUMMARY:MODUL EINSTEIGER - Einsteigerworkshop (Praxis)
DESCRIPTION:Liebe neugierigen Nasen\,  \ndieser Einsteigerworkshop richtet sich an all jene die gerne intensiv in die Welt der Spürhundearbeit eintauchen wollen. Er gliedert sich in Theorie und Praxis\, um dir einen umfangreichen Überblick der Grundlagen zu dieser Arbeit zu geben. \n      Dein Hund würde gerne seine Nase mehr einsetzen?\n      Du möchtest deinem Hund eine artgerechte Auslastung bieten?\n      Du willst dich selbst weiterbilden und über Training und Lerntheorie mehr erfahren?\n      Du suchst nach einem intensiven Training welches zeitlich und örtlich flexibel ist?       \n\nZeitplan Einsteigerworkshop \n\nDo\, 30.04.26 / 16:00-19:00 / Theorie Online\nFr\, 01.05.26 / 10:00-15:00 / Praxis Live\n\n  \nDieser Workshop ist außerdem der Start für das Modul Einsteiger / ME Mai 2026. In diesem 8-wöchigen Programm erarbeitest du dir mit deinem Hund eine solide Basis in dieser Suchhundesparte. \n\nPreview: Bei diesem Termin erhältst du alle relevanten Infos zu Inhalt und Ablauf der Modulreihe (29.03.26 oder 12.04.26).\nMelde dich kostenlos an und sei dabei!\nWorkshop only? Du möchtest an diesem Einsteigerworkshop dabei sein aber nicht beim Modul?\nMelde dich direkt bei Sandra und erfahre als Erstes wenn ein Platz dafür frei wird!\n\n  \nAm Ende dieses intensiven Workshops geht ihr mit viel Wissen nach Hause\, habt eure ersten Trainingsgrundlagen erarbeitet und wisst\, wie ihr eure nächsten Ziele erreicht. \nPerfekter Start in die Spürhundearbeit garantiert! \n  \nZEITPLAN / ME Mai 2026
URL:https://www.suchhunde.wien/event/sd-einsteiger-260501/
LOCATION:Dog Motion – Hundesportzentrum\, Langenlebarner Straße 20\, Königstetten\, 3433\, Österreich
CATEGORIES:SD Event
ATTACH;FMTTYPE=image/jpeg:https://www.suchhunde.wien/wp-content/uploads/2025/12/20251217_130929-1-scaled-e1766046908768.jpg
ORGANIZER;CN="Sandra":MAILTO:sandra@suchhunde.wien
END:VEVENT
BEGIN:VEVENT
DTSTART;TZID=Europe/Vienna:20260503T090000
DTEND;TZID=Europe/Vienna:20260503T110000
DTSTAMP:20260419T195415
CREATED:20260315T142104Z
LAST-MODIFIED:20260315T142821Z
UID:70363-1777798800-1777806000@www.suchhunde.wien
SUMMARY:Trainings- spaziergang (Wien)
DESCRIPTION:Liebe Hundebesitzer\, \nist dein Hund reaktiv oder reagiert auf Umwelteinflüsse?\nHat dein Hund Schwierigkeiten sich in der Umgebung von anderen Hunden zu beruhigen?\nBist du dir manchmal nicht sicher wie du in einer Situation reagieren sollst?\nMöchtest du unter Anleitung mit deinem Hund durch das alltägliche Leben schlendern? \n.. dann ist diese Trainingseinheit das richtige für euch! \nIm Alltag geht es manchmal unter\, sich ausreichend Zeit für Situationen zu nehmen. Aber heute schon!\nDenn heute geht es um viel mehr\, als nur von A nach B zu kommen. Es geht darum sich gemeinsam mit Reizen auseinander zu setzen und dies in ein sinnvolles Alltagstraining umzuwandeln. So könnt ihr mit Unterstützung neue Lösungsstrategien testen und verbessern. Diese Erfahrung kommt euch dann im Alltag zugute. \nStatt Hundeplatzunterordnung ist es unser Ziel ein ausgewogenes Setting für alle Teilnehmer zu schaffen. Der Ort für dieses Training wird daher individuell je Trainingsgruppe vereinbart. \n  \nentspannterer Alltag garantiert! 🙂
URL:https://www.suchhunde.wien/event/tt-spaziergang-260503/
LOCATION:Wien\, 23.Bezirk – Alt Erlaa\, Erlaaer Schleife\, Wien\, 1230\, Österreich
CATEGORIES:TT Basic
ATTACH;FMTTYPE=image/jpeg:https://www.suchhunde.wien/wp-content/uploads/2025/12/Trainingsspaziergang-scaled-e1767624459492.jpg
ORGANIZER;CN="Sandra":MAILTO:sandra@suchhunde.wien
END:VEVENT
BEGIN:VEVENT
DTSTART;TZID=Europe/Vienna:20260504T170000
DTEND;TZID=Europe/Vienna:20260504T190000
DTSTAMP:20260419T195415
CREATED:20260315T094514Z
LAST-MODIFIED:20260315T094514Z
UID:70325-1777914000-1777921200@www.suchhunde.wien
SUMMARY:Onlineanalyse (ME)
DESCRIPTION:Liebe Theoretiker\, \nbei diesem Onlinemeeting machen wir uns einen Überblick über euren aktuellen Leistungsstand und definieren eure nächsten Ziele. \nWir nehmen uns Zeit um aktuelle Videos eurer Trainings zu sichten und besprechen Verbesserungsmöglichkeiten.\nIn jedem Training können Stolperfallen aufkommen – diese Online Termine bieten euch einen simplen Rahmen für offene Fragen und individuellen Trainingsinput. \nDer Termin findet online via Zoom statt. Alle angemeldeten Teilnehmer erhalten zeitnah einen Link für den Einstieg. \nÜberblick garantiert! \nP.S: Dieser Termin ist Teil des Modul Einsteiger / ME Mai 2026. Offene Plätze für Teilnehmer außerhalb des Moduls werden nach Ablauf der Anmeldefrist freigeschalten.
URL:https://www.suchhunde.wien/event/sd-online-260504/
LOCATION:Online – Zoom\, Wien\, Österreich
CATEGORIES:SD Basic
ATTACH;FMTTYPE=image/jpeg:https://www.suchhunde.wien/wp-content/uploads/2017/06/Theorie-e1497353150898.jpg
ORGANIZER;CN="Sandra":MAILTO:sandra@suchhunde.wien
END:VEVENT
BEGIN:VEVENT
DTSTART;TZID=Europe/Vienna:20260505T153000
DTEND;TZID=Europe/Vienna:20260505T193000
DTSTAMP:20260419T195415
CREATED:20260315T142104Z
LAST-MODIFIED:20260315T142104Z
UID:70510-1777995000-1778009400@www.suchhunde.wien
SUMMARY:Trainingstrail Campus21
DESCRIPTION:Liebe Mantrailer! \nBei diesem Training werden die Trails an den Wissenstand des Teams angepasst und die Basics weiter ausgebaut. Bei den fortgeschrittenen Teams wird der Fokus vermehrt auf Leinenhandling und Suchtaktik gelegt. Ihr werdet als Team noch besser zusammenarbeiten und lernen verschiedenste Spuren zu differenzieren. Auf individuelle Schwierigkeiten je Mensch-Hunde-Team wird dabei größten Wert gelegt.
URL:https://www.suchhunde.wien/event/mt-wien-260505/
LOCATION:Brunn am Gebirge – Campus 21\, Europaring 602\, Brunn am Gebirge\, 2345\, Österreich
CATEGORIES:MT Basic
ATTACH;FMTTYPE=image/jpeg:https://www.suchhunde.wien/wp-content/uploads/2020/08/Dog-Shooting_013_new-scaled.jpg
ORGANIZER;CN="Sandra":MAILTO:sandra@suchhunde.wien
END:VEVENT
BEGIN:VEVENT
DTSTART;TZID=Europe/Vienna:20260507T160000
DTEND;TZID=Europe/Vienna:20260507T180000
DTSTAMP:20260419T195415
CREATED:20260330T134012Z
LAST-MODIFIED:20260404T091612Z
UID:70612-1778169600-1778176800@www.suchhunde.wien
SUMMARY:Trainings- spaziergang (Tulln)
DESCRIPTION:Liebe Hundebesitzer\, \nist dein Hund reaktiv oder reagiert auf Umwelteinflüsse?\nHat dein Hund Schwierigkeiten sich in der Umgebung von anderen Hunden zu beruhigen?\nBist du dir manchmal nicht sicher wie du in einer Situation reagieren sollst?\nMöchtest du unter Anleitung mit deinem Hund durch das alltägliche Leben schlendern? \n.. dann ist diese Trainingseinheit das richtige für euch! \nIm Alltag geht es manchmal unter\, sich ausreichend Zeit für Situationen zu nehmen. Aber heute schon!\nDenn heute geht es um viel mehr\, als nur von A nach B zu kommen. Es geht darum sich gemeinsam mit Reizen auseinander zu setzen und dies in ein sinnvolles Alltagstraining umzuwandeln. So könnt ihr mit Unterstützung neue Lösungsstrategien testen und verbessern. Diese Erfahrung kommt euch dann im Alltag zugute. \nStatt Hundeplatzunterordnung ist es unser Ziel ein ausgewogenes Setting für alle Teilnehmer zu schaffen. Der Ort für dieses Training wird daher individuell je Trainingsgruppe vereinbart. \n  \nentspannterer Alltag garantiert! 🙂
URL:https://www.suchhunde.wien/event/tt-spaziergang-260507/
LOCATION:Tulln\, Tulln\, 3430\, Österreich
CATEGORIES:TT Basic
ATTACH;FMTTYPE=image/jpeg:https://www.suchhunde.wien/wp-content/uploads/2026/01/WhatsApp-Image-2026-01-05-at-15.25.42-e1767624402191.jpeg
END:VEVENT
BEGIN:VEVENT
DTSTART;TZID=Europe/Vienna:20260508T150000
DTEND;TZID=Europe/Vienna:20260508T190000
DTSTAMP:20260419T195415
CREATED:20260315T094513Z
LAST-MODIFIED:20260315T094513Z
UID:70326-1778252400-1778266800@www.suchhunde.wien
SUMMARY:Kleingruppe (ME)
DESCRIPTION:Liebe Spürhunde\, \nbei diesem gemeinsamen Training machen wir uns einen Überblick über euren aktuellen Leistungsstand.\nWir trainieren intensiv und individuell in einer kleinen Gruppe von 2-3 Teams. So erhältst du maximalen Input um dein Training Zuhause noch besser und mit neuen Zielen fortzusetzen. \nRoter Faden garantiert! \nP.S: Dieser Termin ist Teil des Modul Einsteiger / ME Mai 2026. Offene Plätze für Teilnehmer außerhalb des Moduls werden nach Ablauf der Anmeldefrist freigeschalten.
URL:https://www.suchhunde.wien/event/sd-kleingruppe-260508/
LOCATION:Wien 1230\, Wien\, 1230\, Österreich
CATEGORIES:SD Basic
ATTACH;FMTTYPE=image/jpeg:https://www.suchhunde.wien/wp-content/uploads/2025/12/20251217_130929-1-scaled-e1766046908768.jpg
ORGANIZER;CN="Sandra":MAILTO:sandra@suchhunde.wien
END:VEVENT
BEGIN:VEVENT
DTSTART;TZID=Europe/Vienna:20260509T090000
DTEND;TZID=Europe/Vienna:20260509T130000
DTSTAMP:20260419T195415
CREATED:20260315T142104Z
LAST-MODIFIED:20260315T142104Z
UID:70380-1778317200-1778331600@www.suchhunde.wien
SUMMARY:Leistungsgruppe
DESCRIPTION:Liebe Intensivtrailer\, \ndieses Leistungstraining bietet uns die Möglichkeit aufwändiger Trails umzusetzen\, wofür im normalen Training die Zeit fehlt. Nicht immer ist das passende Event in greifbarer Nähe\, dann bietet uns dieser regelmäßige Termin die Alternative. \nDu möchtest mit deinem Hund mal eine ältere Spur Laufen? Ein Tiersuchtrail? Checklistentrail? Doppelblind? Oder einfach mal “nur” Intensivtraining angepasst an euren Wissensstand?\nKein Problem\, das ist der passende Termin dafür! \nDer Ort wird jeweils vorab in der Gruppe besprochen und richtet sich nach dem Trainingsbedarf der Teilnehmer. \nVorwärts Garantiert!
URL:https://www.suchhunde.wien/event/leistungsgruppe-260509/
LOCATION:Wien\, Wien\, Österreich
CATEGORIES:MT Event
ATTACH;FMTTYPE=image/jpeg:https://www.suchhunde.wien/wp-content/uploads/2026/03/20240420_123100-scaled-e1773473191293.jpg
END:VEVENT
BEGIN:VEVENT
DTSTART;TZID=Europe/Vienna:20260511T160000
DTEND;TZID=Europe/Vienna:20260511T200000
DTSTAMP:20260419T195415
CREATED:20260315T142102Z
LAST-MODIFIED:20260315T142102Z
UID:70465-1778515200-1778529600@www.suchhunde.wien
SUMMARY:Trainingstrail Stockerau
DESCRIPTION:Liebe Mantrailer! \nBei diesem Training werden die Trails an den Wissenstand des Teams angepasst und die Basics weiter ausgebaut. Bei den fortgeschrittenen Teams wird der Fokus vermehrt auf Leinenhandling und Suchtaktik gelegt. Ihr werdet als Team noch besser zusammenarbeiten und lernen verschiedenste Spuren zu differenzieren. Auf individuelle Schwierigkeiten je Mensch-Hunde-Team wird dabei größten Wert gelegt. \nDer Ort für diesen Termin wird individuell vereinbart!
URL:https://www.suchhunde.wien/event/trainingstrail-tulln-260608/
LOCATION:Stockerau\, Stockerau\, 2000\, Österreich
CATEGORIES:MT Basic
ATTACH;FMTTYPE=image/jpeg:https://www.suchhunde.wien/wp-content/uploads/2020/08/Dog-Shooting_013_new-scaled.jpg
ORGANIZER;CN="Sandra":MAILTO:sandra@suchhunde.wien
END:VEVENT
BEGIN:VEVENT
DTSTART;TZID=Europe/Vienna:20260512T153000
DTEND;TZID=Europe/Vienna:20260512T193000
DTSTAMP:20260419T195415
CREATED:20260315T142102Z
LAST-MODIFIED:20260315T142102Z
UID:70514-1778599800-1778614200@www.suchhunde.wien
SUMMARY:Trainingstrail Wien12
DESCRIPTION:Liebe Mantrailer! \nBei diesem Training werden die Trails an den Wissenstand des Teams angepasst und die Basics weiter ausgebaut. Bei den fortgeschrittenen Teams wird der Fokus vermehrt auf Leinenhandling und Suchtaktik gelegt. Ihr werdet als Team noch besser zusammenarbeiten und lernen verschiedenste Spuren zu differenzieren. Auf individuelle Schwierigkeiten je Mensch-Hunde-Team wird dabei größten Wert gelegt.
URL:https://www.suchhunde.wien/event/mt-wien-260512/
LOCATION:Wien\, 12.Bezirk – Kabelwerk\, Thorvaldsengasse 21\, Wien\, 1120\, Österreich
CATEGORIES:MT Basic
ATTACH;FMTTYPE=image/jpeg:https://www.suchhunde.wien/wp-content/uploads/2020/08/Dog-Shooting_013_new-scaled.jpg
ORGANIZER;CN="Sandra":MAILTO:sandra@suchhunde.wien
END:VEVENT
BEGIN:VEVENT
DTSTART;TZID=Europe/Vienna:20260514T090000
DTEND;TZID=Europe/Vienna:20260514T110000
DTSTAMP:20260419T195415
CREATED:20260315T142102Z
LAST-MODIFIED:20260315T142826Z
UID:70360-1778749200-1778756400@www.suchhunde.wien
SUMMARY:Trainings- spaziergang (Wien)
DESCRIPTION:Liebe Hundebesitzer\, \nist dein Hund reaktiv oder reagiert auf Umwelteinflüsse?\nHat dein Hund Schwierigkeiten sich in der Umgebung von anderen Hunden zu beruhigen?\nBist du dir manchmal nicht sicher wie du in einer Situation reagieren sollst?\nMöchtest du unter Anleitung mit deinem Hund durch das alltägliche Leben schlendern? \n.. dann ist diese Trainingseinheit das richtige für euch! \nIm Alltag geht es manchmal unter\, sich ausreichend Zeit für Situationen zu nehmen. Aber heute schon!\nDenn heute geht es um viel mehr\, als nur von A nach B zu kommen. Es geht darum sich gemeinsam mit Reizen auseinander zu setzen und dies in ein sinnvolles Alltagstraining umzuwandeln. So könnt ihr mit Unterstützung neue Lösungsstrategien testen und verbessern. Diese Erfahrung kommt euch dann im Alltag zugute. \nStatt Hundeplatzunterordnung ist es unser Ziel ein ausgewogenes Setting für alle Teilnehmer zu schaffen. Der Ort für dieses Training wird daher individuell je Trainingsgruppe vereinbart. \n  \nentspannterer Alltag garantiert! 🙂
URL:https://www.suchhunde.wien/event/tt-spaziergang-260514/
LOCATION:Wien\, 23.Bezirk – Alt Erlaa\, Erlaaer Schleife\, Wien\, 1230\, Österreich
CATEGORIES:TT Basic
ATTACH;FMTTYPE=image/jpeg:https://www.suchhunde.wien/wp-content/uploads/2025/12/Trainingsspaziergang-scaled-e1767624459492.jpg
ORGANIZER;CN="Sandra":MAILTO:sandra@suchhunde.wien
END:VEVENT
BEGIN:VEVENT
DTSTART;TZID=Europe/Vienna:20260514T170000
DTEND;TZID=Europe/Vienna:20260514T190000
DTSTAMP:20260419T195415
CREATED:20260315T094513Z
LAST-MODIFIED:20260315T094513Z
UID:70334-1778778000-1778785200@www.suchhunde.wien
SUMMARY:Onlineanalyse (ME)
DESCRIPTION:Liebe Theoretiker\, \nbei diesem Onlinemeeting machen wir uns einen Überblick über euren aktuellen Leistungsstand und definieren eure nächsten Ziele. \nWir nehmen uns Zeit um aktuelle Videos eurer Trainings zu sichten und besprechen Verbesserungsmöglichkeiten.\nIn jedem Training können Stolperfallen aufkommen – diese Online Termine bieten euch einen simplen Rahmen für offene Fragen und individuellen Trainingsinput. \nDer Termin findet online via Zoom statt. Alle angemeldeten Teilnehmer erhalten zeitnah einen Link für den Einstieg. \nÜberblick garantiert! \nP.S: Dieser Termin ist Teil des Modul Einsteiger / ME Mai 2026. Offene Plätze für Teilnehmer außerhalb des Moduls werden nach Ablauf der Anmeldefrist freigeschalten.
URL:https://www.suchhunde.wien/event/sd-online-260514/
LOCATION:Online – Zoom\, Wien\, Österreich
CATEGORIES:SD Basic
ATTACH;FMTTYPE=image/jpeg:https://www.suchhunde.wien/wp-content/uploads/2017/06/Theorie-e1497353150898.jpg
ORGANIZER;CN="Sandra":MAILTO:sandra@suchhunde.wien
END:VEVENT
BEGIN:VEVENT
DTSTART;VALUE=DATE:20260516
DTEND;VALUE=DATE:20260525
DTSTAMP:20260419T195415
CREATED:20260315T142102Z
LAST-MODIFIED:20260315T142102Z
UID:70351-1778889600-1779667199@www.suchhunde.wien
SUMMARY:Trainingspause
DESCRIPTION:In dieser Zeit finden keine Trainings oder Events statt
URL:https://www.suchhunde.wien/event/trainingspause-2605/
CATEGORIES:(4) Geschlossene Termine
END:VEVENT
BEGIN:VEVENT
DTSTART;TZID=Europe/Vienna:20260521T160000
DTEND;TZID=Europe/Vienna:20260521T180000
DTSTAMP:20260419T195415
CREATED:20260330T134309Z
LAST-MODIFIED:20260404T091430Z
UID:70615-1779379200-1779386400@www.suchhunde.wien
SUMMARY:Trainings- spaziergang (Tulln)
DESCRIPTION:Liebe Hundebesitzer\, \nist dein Hund reaktiv oder reagiert auf Umwelteinflüsse?\nHat dein Hund Schwierigkeiten sich in der Umgebung von anderen Hunden zu beruhigen?\nBist du dir manchmal nicht sicher wie du in einer Situation reagieren sollst?\nMöchtest du unter Anleitung mit deinem Hund durch das alltägliche Leben schlendern? \n.. dann ist diese Trainingseinheit das richtige für euch! \nIm Alltag geht es manchmal unter\, sich ausreichend Zeit für Situationen zu nehmen. Aber heute schon!\nDenn heute geht es um viel mehr\, als nur von A nach B zu kommen. Es geht darum sich gemeinsam mit Reizen auseinander zu setzen und dies in ein sinnvolles Alltagstraining umzuwandeln. So könnt ihr mit Unterstützung neue Lösungsstrategien testen und verbessern. Diese Erfahrung kommt euch dann im Alltag zugute. \nStatt Hundeplatzunterordnung ist es unser Ziel ein ausgewogenes Setting für alle Teilnehmer zu schaffen. Der Ort für dieses Training wird daher individuell je Trainingsgruppe vereinbart. \n  \nentspannterer Alltag garantiert! 🙂
URL:https://www.suchhunde.wien/event/tt-spaziergang-260521/
LOCATION:Tulln\, Tulln\, 3430\, Österreich
CATEGORIES:TT Basic
ATTACH;FMTTYPE=image/jpeg:https://www.suchhunde.wien/wp-content/uploads/2026/01/WhatsApp-Image-2026-01-05-at-15.25.42-e1767624402191.jpeg
END:VEVENT
BEGIN:VEVENT
DTSTART;TZID=Europe/Vienna:20260525T090000
DTEND;TZID=Europe/Vienna:20260525T130000
DTSTAMP:20260419T195415
CREATED:20260315T094513Z
LAST-MODIFIED:20260315T094513Z
UID:70327-1779699600-1779714000@www.suchhunde.wien
SUMMARY:Halbtag (ME)
DESCRIPTION:Liebe Spürhunde\, \nbei diesem gemeinsamen Training machen wir uns einen Überblick über euren aktuellen Leistungsstand.\nDanach trainiert jedes Team – unter individueller Anleitung – an seinen persönlichen nächsten Zielen.\nAm Ende gehst du mit viel neuem Input nach Hause und kannst dort dein Training noch besser fortsetzen. \nRoter Faden garantiert! \nP.S: Dieser Termin ist Teil des Modul Einsteiger / ME Mai 2026. Offene Plätze für Teilnehmer außerhalb des Moduls werden nach Ablauf der Anmeldefrist freigeschalten.
URL:https://www.suchhunde.wien/event/sd-halbtag-260525/
LOCATION:Wien\, Wien\, Österreich
CATEGORIES:SD Event
ATTACH;FMTTYPE=image/jpeg:https://www.suchhunde.wien/wp-content/uploads/2025/12/20251217_130929-1-scaled-e1766046908768.jpg
ORGANIZER;CN="Sandra":MAILTO:sandra@suchhunde.wien
END:VEVENT
BEGIN:VEVENT
DTSTART;TZID=Europe/Vienna:20260526T153000
DTEND;TZID=Europe/Vienna:20260526T193000
DTSTAMP:20260419T195415
CREATED:20260315T142101Z
LAST-MODIFIED:20260315T142101Z
UID:70518-1779809400-1779823800@www.suchhunde.wien
SUMMARY:Trainingstrail Wien23
DESCRIPTION:Liebe Mantrailer! \nBei diesem Training werden die Trails an den Wissenstand des Teams angepasst und die Basics weiter ausgebaut. Bei den fortgeschrittenen Teams wird der Fokus vermehrt auf Leinenhandling und Suchtaktik gelegt. Ihr werdet als Team noch besser zusammenarbeiten und lernen verschiedenste Spuren zu differenzieren. Auf individuelle Schwierigkeiten je Mensch-Hunde-Team wird dabei größten Wert gelegt.
URL:https://www.suchhunde.wien/event/mt-wien-260526/
LOCATION:Wien\, 23.Bezirk – Gregorygasse\, Gregorygasse 47\, Wien\, 1230\, Österreich
CATEGORIES:MT Basic
ATTACH;FMTTYPE=image/jpeg:https://www.suchhunde.wien/wp-content/uploads/2020/08/Dog-Shooting_013_new-scaled.jpg
ORGANIZER;CN="Sandra":MAILTO:sandra@suchhunde.wien
END:VEVENT
BEGIN:VEVENT
DTSTART;TZID=Europe/Vienna:20260528T160000
DTEND;TZID=Europe/Vienna:20260528T180000
DTSTAMP:20260419T195415
CREATED:20260330T134636Z
LAST-MODIFIED:20260404T091304Z
UID:70618-1779984000-1779991200@www.suchhunde.wien
SUMMARY:Trainings- spaziergang (Tulln)
DESCRIPTION:Liebe Hundebesitzer\, \nist dein Hund reaktiv oder reagiert auf Umwelteinflüsse?\nHat dein Hund Schwierigkeiten sich in der Umgebung von anderen Hunden zu beruhigen?\nBist du dir manchmal nicht sicher wie du in einer Situation reagieren sollst?\nMöchtest du unter Anleitung mit deinem Hund durch das alltägliche Leben schlendern? \n.. dann ist diese Trainingseinheit das richtige für euch! \nIm Alltag geht es manchmal unter\, sich ausreichend Zeit für Situationen zu nehmen. Aber heute schon!\nDenn heute geht es um viel mehr\, als nur von A nach B zu kommen. Es geht darum sich gemeinsam mit Reizen auseinander zu setzen und dies in ein sinnvolles Alltagstraining umzuwandeln. So könnt ihr mit Unterstützung neue Lösungsstrategien testen und verbessern. Diese Erfahrung kommt euch dann im Alltag zugute. \nStatt Hundeplatzunterordnung ist es unser Ziel ein ausgewogenes Setting für alle Teilnehmer zu schaffen. Der Ort für dieses Training wird daher individuell je Trainingsgruppe vereinbart. \n  \nentspannterer Alltag garantiert! 🙂
URL:https://www.suchhunde.wien/event/tt-spaziergang-260528/
LOCATION:Tulln\, Tulln\, 3430\, Österreich
CATEGORIES:TT Basic
ATTACH;FMTTYPE=image/jpeg:https://www.suchhunde.wien/wp-content/uploads/2026/01/WhatsApp-Image-2026-01-05-at-15.25.42-e1767624402191.jpeg
END:VEVENT
BEGIN:VEVENT
DTSTART;TZID=Europe/Vienna:20260529T140000
DTEND;TZID=Europe/Vienna:20260529T190000
DTSTAMP:20260419T195415
CREATED:20260112T110540Z
LAST-MODIFIED:20260314T065924Z
UID:70057-1780063200-1780081200@www.suchhunde.wien
SUMMARY:CHARAKTER- EINSCHÄTZUNG
DESCRIPTION:..wie tickt mein Hund?\nINFO\nIn diesem exklusiven Seminar möchten wir die Tendenzen\, die ein Hund mitbringt erkennen. Einmal erkannt\, lassen sich viele unerwünschte Verhaltensweisen in einem gewissen Rahmen ändern bzw. umlenken. Dabei geht es nur um das Aufzeigen einzelner Charakterzüge\, nicht um deren Wertung. Wir schulen das Auge für körpersprachliche Signale und deren Bedeutungen. \n  \nINHALTE \n\nVorstellungsrunde\nTheorieteil\nEinschätzung der einzelnen Hunde inkl. Videoanalyse\nAbschlussbesprechung\n\n  \nVORGEHENSWEISE \n\nIn verschiedenen Situationen wird das Verhalten des Hundes eingeschätzt.\nU.a. geht es um Urvertrauen\, Bewegungsdrang\, Belastbarkeit\, Gelassenheit in Bezug auf Menschen\, optische und akustische Reize\, Frustrationstoleranz\, Begeisterungsfähigkeit\, u.v.m.\nDie Trainerinnen beobachten jeden Hund einzeln\nIn der anschließenden Videoanalyse werden die Charaktereigenschaften nochmals besprochen\n\nZIEL \nWir wollen mit einer Charakteranalyse Tendenzen erkennen\, um uns die Charaktereigenschaften zu Hause zu nutzen zu machen. Versteht man den Hund und seine Verhaltensweise besser\, verbessert dies auch\ndas Miteinander. \n  \nVORAUSSETZUNGEN \n\nDie Hunde verbringen den Tag über im Auto – jeder bekommt seine persönliche Zeit\, daher müssen die anderen warten. Pausen werden selbstverständlich berücksichtigt\nMaulkorb mitbringen – manchmal ist das bisschen Extra an Sicherheit hilfreich um neutral bleiben zu können. Wir entscheiden dies jeweils individuell\, daher bereitet euch bitte vor\nAnsonsten ist kein spezifisches Wissen oder Können erforderlich – jeder ist willkommen und kann teilnehmen\n\n  \nLass dich also überraschen\, was dir vielleicht bisher entgangen ist. \nVerständnis garantiert!
URL:https://www.suchhunde.wien/event/charaktereinschaetzung-260529/
LOCATION:Hundeschule SHS Wien\, Biberhaufenweg 173\, Wien\, 1220\, Österreich
CATEGORIES:TT Event
ATTACH;FMTTYPE=image/jpeg:https://www.suchhunde.wien/wp-content/uploads/2025/09/20240330_124306-scaled-e1766047629722.jpg
END:VEVENT
END:VCALENDAR