BEGIN:VCALENDAR
VERSION:2.0
PRODID:-//suchhunde.wien | Professionelles Training mit Herz! - ECPv5.8.1//NONSGML v1.0//EN
CALSCALE:GREGORIAN
METHOD:PUBLISH
X-WR-CALNAME:suchhunde.wien | Professionelles Training mit Herz!
X-ORIGINAL-URL:https://www.suchhunde.wien
X-WR-CALDESC:Veranstaltungen für suchhunde.wien | Professionelles Training mit Herz!
BEGIN:VTIMEZONE
TZID:Europe/Vienna
BEGIN:DAYLIGHT
TZOFFSETFROM:+0100
TZOFFSETTO:+0200
TZNAME:CEST
DTSTART:20240331T010000
END:DAYLIGHT
BEGIN:STANDARD
TZOFFSETFROM:+0200
TZOFFSETTO:+0100
TZNAME:CET
DTSTART:20241027T010000
END:STANDARD
END:VTIMEZONE
BEGIN:VEVENT
DTSTART;TZID=Europe/Vienna:20240810T100000
DTEND;TZID=Europe/Vienna:20240810T120000
DTSTAMP:20260424T102704
CREATED:20240616T162859Z
LAST-MODIFIED:20240924T084552Z
UID:66985-1723284000-1723291200@www.suchhunde.wien
SUMMARY:*AUSVERKAUFT* LOCATIONTRAIL Wasser Greifenstein
DESCRIPTION:Liebe Wasserratten\, \nbei den heißen Temperaturen darf es auch mal eine erfrischende Abwechslung geben. Daher trailen wir heute mal am und im Wasser! Die Hunde müssen dafür nicht unbedingt schwimmen können\, aber sollten natürlich gerne ins Wasser gehen. Heute geht es vor allem um Spaß für Mensch und Hund. \nBadesachen bzw. geeignete Kleidung die auch nass werden darf nicht vergessen! \nAbkühlung garantiert!
URL:https://www.suchhunde.wien/event/locationtrail-greifenstein-230810/
LOCATION:St. Andrä Wördern – Greifenstein\, Parkplatz Altarm Greifenstein\, St. Andrä-Wördern\, 3422\, Österreich
ATTACH;FMTTYPE=image/jpeg:https://www.suchhunde.wien/wp-content/uploads/2017/04/davidbitzan_trailing-8.jpg
ORGANIZER;CN="Sandra":MAILTO:sandra@suchhunde.wien
END:VEVENT
END:VCALENDAR