BEGIN:VCALENDAR
VERSION:2.0
PRODID:-//suchhunde.wien | Professionelles Training mit Herz! - ECPv5.8.1//NONSGML v1.0//EN
CALSCALE:GREGORIAN
METHOD:PUBLISH
X-WR-CALNAME:suchhunde.wien | Professionelles Training mit Herz!
X-ORIGINAL-URL:https://www.suchhunde.wien
X-WR-CALDESC:Veranstaltungen für suchhunde.wien | Professionelles Training mit Herz!
BEGIN:VTIMEZONE
TZID:Europe/Vienna
BEGIN:DAYLIGHT
TZOFFSETFROM:+0100
TZOFFSETTO:+0200
TZNAME:CEST
DTSTART:20240331T010000
END:DAYLIGHT
BEGIN:STANDARD
TZOFFSETFROM:+0200
TZOFFSETTO:+0100
TZNAME:CET
DTSTART:20241027T010000
END:STANDARD
END:VTIMEZONE
BEGIN:VEVENT
DTSTART;TZID=Europe/Vienna:20240623T110000
DTEND;TZID=Europe/Vienna:20240623T140000
DTSTAMP:20260424T115310
CREATED:20240305T124237Z
LAST-MODIFIED:20240305T124237Z
UID:66592-1719140400-1719151200@www.suchhunde.wien
SUMMARY:ZEITSPEICHER
DESCRIPTION:Liebe Einsatztrailer! \nGerade für (angehende) Einsatzteams kann das heutige Thema ganz entscheidend sein. Daher lernt ihr heute eure Hunde wiedermal ein Stück besser kennen und lesen!\nMerkt sich mein Hund die Zeit eines Trails? Wie verhält er sich\, wenn er mit dem selben Geruch auf einer älteren Spur angesetzt wird? Wie erkenne ich es und wie kann ich ihn unterstützen?\nDiesen und vielen anderen Fragen werden wir auf den Grund gehen! \nDer Ort wird in der Gruppe besprochen und bekannt gegeben. \nEinsatzsicherheit 2.0 🙂 \nP.s.: Bitte beachte\, dass dieses Event gegebenenfalls noch nicht für deinen Hund geeignet sein könnte. Falls du dir nicht sicher bist\, kannst du gerne Rücksprache mit Sandra halten. Wir werden dann den Trainingsstand deines Hundes besprechen und abwiegen.
URL:https://www.suchhunde.wien/event/zeitspeicher-240623/
LOCATION:Wien\, Wien\, Österreich
CATEGORIES:(3) Events
ATTACH;FMTTYPE=image/jpeg:https://www.suchhunde.wien/wp-content/uploads/2019/10/Dog-Shooting_176-e1571317740180.jpg
ORGANIZER;CN="Sandra":MAILTO:sandra@suchhunde.wien
END:VEVENT
END:VCALENDAR