BEGIN:VCALENDAR
VERSION:2.0
PRODID:-//suchhunde.wien | Professionelles Training mit Herz! - ECPv5.8.1//NONSGML v1.0//EN
CALSCALE:GREGORIAN
METHOD:PUBLISH
X-WR-CALNAME:suchhunde.wien | Professionelles Training mit Herz!
X-ORIGINAL-URL:https://www.suchhunde.wien
X-WR-CALDESC:Veranstaltungen für suchhunde.wien | Professionelles Training mit Herz!
BEGIN:VTIMEZONE
TZID:Europe/Vienna
BEGIN:DAYLIGHT
TZOFFSETFROM:+0100
TZOFFSETTO:+0200
TZNAME:CEST
DTSTART:20230326T010000
END:DAYLIGHT
BEGIN:STANDARD
TZOFFSETFROM:+0200
TZOFFSETTO:+0100
TZNAME:CET
DTSTART:20231029T010000
END:STANDARD
END:VTIMEZONE
BEGIN:VEVENT
DTSTART;TZID=Europe/Vienna:20231021T110000
DTEND;TZID=Europe/Vienna:20231021T150000
DTSTAMP:20260424T115334
CREATED:20230912T081618Z
LAST-MODIFIED:20240306T074643Z
UID:65364-1697886000-1697900400@www.suchhunde.wien
SUMMARY:Waldtrail- Schottenhof
DESCRIPTION:Liebe Mantrailer! \nManchmal brauchen nicht nur wir Menschen\, sondern auch unsere Hunde ein wenig Abwechslung. Daher biete ich euch nun regelmäßig einen so genannten Locationtrail an. Hier nützen wir neue Gebiete in die es uns sonst für normale Trainings nicht verschlägt. Dieser kleine Ortswechsel wird unser Trainings insgesamt etwas auflockern und unseren Hunden mit der Zeit die nötige Flexibilität geben. Was wir oft nicht bedenken ist\, dass in ähnlichen Gebieten auch ähnliche Gerüche herrschen.\nBei unserem heutigen Waldtrrail verschlägt es uns zum Schottenhof. \n  \nBei diesem Training werden die Trails an den Wissenstand des Teams angepasst und die Basics weiter ausgebaut. Bei den fortgeschrittenen Teams wird der Fokus vermehrt auf Leinenhandling und Suchtaktik gelegt. Ihr werdet als Team noch besser zusammenarbeiten und lernen verschiedenste Spuren zu differenzieren. Auf individuelle Schwierigkeiten je Mensch-Hunde-Team wird dabei größten Wert gelegt. \nAbwechslung garantiert!
URL:https://www.suchhunde.wien/event/waldtrail-schottenhof-231021/
LOCATION:Wien\, 14.Bezirk – Schottenhof\, Amundsenstraße 5\, Wien\, 1140\, Österreich
ATTACH;FMTTYPE=image/jpeg:https://www.suchhunde.wien/wp-content/uploads/2021/06/image-2.jpeg
ORGANIZER;CN="Sandra":MAILTO:sandra@suchhunde.wien
END:VEVENT
END:VCALENDAR