BEGIN:VCALENDAR
VERSION:2.0
PRODID:-//suchhunde.wien | Professionelles Training mit Herz! - ECPv5.8.1//NONSGML v1.0//EN
CALSCALE:GREGORIAN
METHOD:PUBLISH
X-WR-CALNAME:suchhunde.wien | Professionelles Training mit Herz!
X-ORIGINAL-URL:https://www.suchhunde.wien
X-WR-CALDESC:Veranstaltungen für suchhunde.wien | Professionelles Training mit Herz!
BEGIN:VTIMEZONE
TZID:Europe/Vienna
BEGIN:DAYLIGHT
TZOFFSETFROM:+0100
TZOFFSETTO:+0200
TZNAME:CEST
DTSTART:20230326T010000
END:DAYLIGHT
BEGIN:STANDARD
TZOFFSETFROM:+0200
TZOFFSETTO:+0100
TZNAME:CET
DTSTART:20231029T010000
END:STANDARD
END:VTIMEZONE
BEGIN:VEVENT
DTSTART;TZID=Europe/Vienna:20230912T153000
DTEND;TZID=Europe/Vienna:20230912T193000
DTSTAMP:20260424T175249
CREATED:20230604T121324Z
LAST-MODIFIED:20230912T081620Z
UID:64805-1694532600-1694547000@www.suchhunde.wien
SUMMARY:Waldtrail Klee am Hanslteich
DESCRIPTION:Liebe Mantrailer! \nBei diesem Training werden die Trails an den Wissenstand des Teams angepasst und die Basics weiter ausgebaut. Bei den fortgeschrittenen Teams wird der Fokus vermehrt auf Leinenhandling und Suchtaktik gelegt. Ihr werdet als Team noch besser zusammenarbeiten und lernen verschiedenste Spuren zu differenzieren. Auf individuelle Schwierigkeiten je Mensch-Hunde-Team wird dabei größten Wert gelegt.
URL:https://www.suchhunde.wien/event/waldtrail-hanslteich-230912/
LOCATION:Wien\, 17.Bezirk – Klee am Hanslteich\, Amundsenstraße 10\, Wien\, 1170\, Österreich
CATEGORIES:(3) Events
ATTACH;FMTTYPE=image/jpeg:https://www.suchhunde.wien/wp-content/uploads/2020/08/2020.05_Mantrailing-32-scaled.jpg
ORGANIZER;CN="Sandra":MAILTO:sandra@suchhunde.wien
END:VEVENT
END:VCALENDAR