BEGIN:VCALENDAR
VERSION:2.0
PRODID:-//suchhunde.wien | Professionelles Training mit Herz! - ECPv5.8.1//NONSGML v1.0//EN
CALSCALE:GREGORIAN
METHOD:PUBLISH
X-WR-CALNAME:suchhunde.wien | Professionelles Training mit Herz!
X-ORIGINAL-URL:https://www.suchhunde.wien
X-WR-CALDESC:Veranstaltungen für suchhunde.wien | Professionelles Training mit Herz!
BEGIN:VTIMEZONE
TZID:Europe/Vienna
BEGIN:DAYLIGHT
TZOFFSETFROM:+0100
TZOFFSETTO:+0200
TZNAME:CEST
DTSTART:20240331T010000
END:DAYLIGHT
BEGIN:STANDARD
TZOFFSETFROM:+0200
TZOFFSETTO:+0100
TZNAME:CET
DTSTART:20241027T010000
END:STANDARD
END:VTIMEZONE
BEGIN:VEVENT
DTSTART;TZID=Europe/Vienna:20240913T140000
DTEND;TZID=Europe/Vienna:20240913T190000
DTSTAMP:20260420T103302
CREATED:20240616T162858Z
LAST-MODIFIED:20240924T084551Z
UID:66982-1726236000-1726254000@www.suchhunde.wien
SUMMARY:Offenes Training
DESCRIPTION:Liebe Alle\, \ndie Anmeldung und das Training an diesem Termin ist einer geschlossenen Gruppe vorbehalten. Hier wird gemeinsam organisiert\, geplant\, trainiert..
URL:https://www.suchhunde.wien/event/ot-240913/
LOCATION:Wien\, Wien\, Österreich
CATEGORIES:(4) Geschlossene Termine
END:VEVENT
END:VCALENDAR