BEGIN:VCALENDAR
VERSION:2.0
PRODID:-//suchhunde.wien | Professionelles Training mit Herz! - ECPv5.8.1//NONSGML v1.0//EN
CALSCALE:GREGORIAN
METHOD:PUBLISH
X-WR-CALNAME:suchhunde.wien | Professionelles Training mit Herz!
X-ORIGINAL-URL:https://www.suchhunde.wien
X-WR-CALDESC:Veranstaltungen für suchhunde.wien | Professionelles Training mit Herz!
BEGIN:VTIMEZONE
TZID:Europe/Vienna
BEGIN:DAYLIGHT
TZOFFSETFROM:+0100
TZOFFSETTO:+0200
TZNAME:CEST
DTSTART:20220327T010000
END:DAYLIGHT
BEGIN:STANDARD
TZOFFSETFROM:+0200
TZOFFSETTO:+0100
TZNAME:CET
DTSTART:20221030T010000
END:STANDARD
END:VTIMEZONE
BEGIN:VEVENT
DTSTART;TZID=Europe/Vienna:20220130T100000
DTEND;TZID=Europe/Vienna:20220130T150000
DTSTAMP:20260424T155829
CREATED:20220102T101743Z
LAST-MODIFIED:20220102T101743Z
UID:61746-1643536800-1643554800@www.suchhunde.wien
SUMMARY:NEGATIV
DESCRIPTION:Liebe Einsatztrailer! \nGerade für (angehende) Einsatzteams kann das heutige Thema ganz entscheidend sein. Daher lernt ihr heute eure Hunde wiedermal ein Stück besser kennen und lesen!\nWas macht mein Hund wenn die Spur einfach endet? Oder was macht er\, wenn es gar keine Spur gibt? Wie unterstütze ich ihn\, und wann ist der beste Zeitpunkt um ihn zu bestätigen?\nDiesen und vielen anderen Fragen werden wir auf den Grund gehen! \nAls zusätzlichen Input wird es am Abend vor dem praktischen Training eine Theorieeinheit geben. Hier werden wir die Negativunterschiede besprechen\, warum ist manches für manche Hunde leichter oder schwerer\, sowie Videosbeispiele ansehen wie sich Hunde verhalten können wenn der Geruch endet. \nTheorie (online\, Zoom)\nSa\, 29.01.22 – 18:00 \nPraxis:\nSo\, 30.01.22 – 10:00 \n  \nPOSITIV garantiert 🙂 \n  \nP.s.: Bitte beachte\, dass dieses Event gegebenenfalls noch nicht für deinen Hund geeignet sein könnte. Falls du dir nicht sicher bist\, kannst du gerne Rücksprache mit Sandra halten. Wir werden dann den Trainingsstand deines Hundes besprechen und abwiegen.
URL:https://www.suchhunde.wien/event/negativ-220130/
LOCATION:Wien\, 23.Bezirk – Liesing\, Haeckelstraße 1a\, Wien\, 1230\, Österreich
CATEGORIES:(3) Events
ATTACH;FMTTYPE=image/jpeg:https://www.suchhunde.wien/wp-content/uploads/2019/10/Dog-Shooting_176-e1571317740180.jpg
ORGANIZER;CN="Sandra":MAILTO:sandra@suchhunde.wien
END:VEVENT
END:VCALENDAR