BEGIN:VCALENDAR
VERSION:2.0
PRODID:-//suchhunde.wien | Professionelles Training mit Herz! - ECPv5.8.1//NONSGML v1.0//EN
CALSCALE:GREGORIAN
METHOD:PUBLISH
X-WR-CALNAME:suchhunde.wien | Professionelles Training mit Herz!
X-ORIGINAL-URL:https://www.suchhunde.wien
X-WR-CALDESC:Veranstaltungen für suchhunde.wien | Professionelles Training mit Herz!
BEGIN:VTIMEZONE
TZID:Europe/Vienna
BEGIN:DAYLIGHT
TZOFFSETFROM:+0100
TZOFFSETTO:+0200
TZNAME:CEST
DTSTART:20200329T010000
END:DAYLIGHT
BEGIN:STANDARD
TZOFFSETFROM:+0200
TZOFFSETTO:+0100
TZNAME:CET
DTSTART:20201025T010000
END:STANDARD
END:VTIMEZONE
BEGIN:VEVENT
DTSTART;TZID=Europe/Vienna:20200906T100000
DTEND;TZID=Europe/Vienna:20200906T120000
DTSTAMP:20260424T211335
CREATED:20200820T120436Z
LAST-MODIFIED:20210617T164119Z
UID:4207-1599386400-1599393600@www.suchhunde.wien
SUMMARY:LOCATIONTRAIL - Wienerberg City
DESCRIPTION:Liebe Mantrailer! \nManchmal brauchen nicht nur wir Menschen\, sondern auch unsere Hunde ein wenig Abwechslung. Daher biete ich euch nun regelmäßig einen so genannten Locationtrail an. Hier nützen wir neue Gebiete in die es uns sonst für normale Trainings nicht verschlägt. Dieser kleine Ortswechsel wird unser Trainings insgesamt etwas auflockern und unseren Hunden mit der Zeit die nötige Flexibilität geben. Was wir oft nicht bedenken ist\, dass in ähnlichen Gebieten auch ähnliche Gerüche herrschen.\nBei unserem heutigen Locationtrail verschlägt es uns in die Wienerberg City. Hier können unsere Hunde mal ganz andere Hochhausluft schnuppern und lernen auch sich in der großen Businesswelt zurecht zu finden (: \nBei diesem Training werden die Trails an den Wissenstand des Teams angepasst und die Basics weiter ausgebaut. Bei den fortgeschrittenen Teams wird der Fokus vermehrt auf Leinenhandling und Suchtaktik gelegt. Ihr werdet als Team noch besser zusammenarbeiten und lernen verschiedenste Spuren zu differenzieren. Auf individuelle Schwierigkeiten je Mensch-Hunde-Team wird dabei größten Wert gelegt. \nAbwechslung garantiert!
URL:https://www.suchhunde.wien/event/locationtrail-wienerbergcity-200906/
LOCATION:Wien\, 10.Bezirk – Wienerberg City\, Triester Straße 70\, Wien\, 1100\, Österreich
CATEGORIES:(3) Events
ORGANIZER;CN="Sandra":MAILTO:sandra@suchhunde.wien
END:VEVENT
END:VCALENDAR