BEGIN:VCALENDAR
VERSION:2.0
PRODID:-//suchhunde.wien | Professionelles Training mit Herz! - ECPv5.8.1//NONSGML v1.0//EN
CALSCALE:GREGORIAN
METHOD:PUBLISH
X-WR-CALNAME:suchhunde.wien | Professionelles Training mit Herz!
X-ORIGINAL-URL:https://www.suchhunde.wien
X-WR-CALDESC:Veranstaltungen für suchhunde.wien | Professionelles Training mit Herz!
BEGIN:VTIMEZONE
TZID:Europe/Vienna
BEGIN:DAYLIGHT
TZOFFSETFROM:+0100
TZOFFSETTO:+0200
TZNAME:CEST
DTSTART:20190331T010000
END:DAYLIGHT
BEGIN:STANDARD
TZOFFSETFROM:+0200
TZOFFSETTO:+0100
TZNAME:CET
DTSTART:20191027T010000
END:STANDARD
END:VTIMEZONE
BEGIN:VEVENT
DTSTART;TZID=Europe/Vienna:20190222T160000
DTEND;TZID=Europe/Vienna:20190222T180000
DTSTAMP:20260420T131617
CREATED:20190115T093204Z
LAST-MODIFIED:20210617T164159Z
UID:2810-1550851200-1550858400@www.suchhunde.wien
SUMMARY:LOCATIONTRAIL Hauptbahnhof *AUSVERKAUFT*
DESCRIPTION:Liebe Mantrailer! \nMit unserem heutigen Locationtrail werden wir die Gegend rund um den Hauptbahnhof unsicher machen!\nBei diesem Training werden die Trails an den Wissenstand des Teams angepasst und die Basics weiter ausgebaut. Auf individuelle Schwierigkeiten je Mensch-Hunde-Team wird dabei größten Wert gelegt. \nBahnerlebnis garantiert!
URL:https://www.suchhunde.wien/event/locationtrail-hauptbahnhof-190222/
LOCATION:Wien\, 10.Bezirk – Hauptbahnhof\, Gerhard Bronner Straße\, Wien\, 1040\, Österreich
CATEGORIES:(3) Events
ORGANIZER;CN="Sandra":MAILTO:sandra@suchhunde.wien
END:VEVENT
END:VCALENDAR