BEGIN:VCALENDAR
VERSION:2.0
PRODID:-//suchhunde.wien | Professionelles Training mit Herz! - ECPv5.8.1//NONSGML v1.0//EN
CALSCALE:GREGORIAN
METHOD:PUBLISH
X-WR-CALNAME:suchhunde.wien | Professionelles Training mit Herz!
X-ORIGINAL-URL:https://www.suchhunde.wien
X-WR-CALDESC:Veranstaltungen für suchhunde.wien | Professionelles Training mit Herz!
BEGIN:VTIMEZONE
TZID:Europe/Vienna
BEGIN:DAYLIGHT
TZOFFSETFROM:+0100
TZOFFSETTO:+0200
TZNAME:CEST
DTSTART:20220327T010000
END:DAYLIGHT
BEGIN:STANDARD
TZOFFSETFROM:+0200
TZOFFSETTO:+0100
TZNAME:CET
DTSTART:20221030T010000
END:STANDARD
END:VTIMEZONE
BEGIN:VEVENT
DTSTART;TZID=Europe/Vienna:20220426T173000
DTEND;TZID=Europe/Vienna:20220426T193000
DTSTAMP:20260421T065321
CREATED:20220321T094826Z
LAST-MODIFIED:20220426T053328Z
UID:62083-1650994200-1651001400@www.suchhunde.wien
SUMMARY:LOCATIONTRAIL - Gasometer
DESCRIPTION:Liebe Mantrailer! \nManchmal brauchen nicht nur wir Menschen\, sondern auch unsere Hunde ein wenig Abwechslung. Daher biete ich euch nun regelmäßig einen so genannten Locationtrail an. Hier nützen wir neue Gebiete in die es uns sonst für normale Trainings nicht verschlägt. Dieser kleine Ortswechsel wird unser Trainings insgesamt etwas auflockern und unseren Hunden mit der Zeit die nötige Flexibilität geben. Was wir oft nicht bedenken ist\, dass in ähnlichen Gebieten auch ähnliche Gerüche herrschen.\nBei unserem heutigen Locationtrail verschlägt es uns zum Gasometer. Eine Mischung aus Grünflächen\, Neubau und Indoor. Für alle was dabei! \nBei diesem Training werden die Trails an den Wissenstand des Teams angepasst und die Basics weiter ausgebaut. Bei den fortgeschrittenen Teams wird der Fokus vermehrt auf Leinenhandling und Suchtaktik gelegt. Ihr werdet als Team noch besser zusammenarbeiten und lernen verschiedenste Spuren zu differenzieren. Auf individuelle Schwierigkeiten je Mensch-Hunde-Team wird dabei größten Wert gelegt. \nAbwechslung garantiert!
URL:https://www.suchhunde.wien/event/locationtrail-gasometer-220426/
LOCATION:Wien\, 11. Bezirk – Gasometer\, Otto Herschmann Gasse 4\, Wien\, 1110\, Österreich
CATEGORIES:(1) Training Wien
ATTACH;FMTTYPE=image/jpeg:https://www.suchhunde.wien/wp-content/uploads/2021/06/Dog-Shooting_108.jpg
ORGANIZER;CN="Sandra":MAILTO:sandra@suchhunde.wien
END:VEVENT
END:VCALENDAR