BEGIN:VCALENDAR
VERSION:2.0
PRODID:-//suchhunde.wien | Professionelles Training mit Herz! - ECPv5.8.1//NONSGML v1.0//EN
CALSCALE:GREGORIAN
METHOD:PUBLISH
X-WR-CALNAME:suchhunde.wien | Professionelles Training mit Herz!
X-ORIGINAL-URL:https://www.suchhunde.wien
X-WR-CALDESC:Veranstaltungen für suchhunde.wien | Professionelles Training mit Herz!
BEGIN:VTIMEZONE
TZID:Europe/Vienna
BEGIN:DAYLIGHT
TZOFFSETFROM:+0100
TZOFFSETTO:+0200
TZNAME:CEST
DTSTART:20200329T010000
END:DAYLIGHT
BEGIN:STANDARD
TZOFFSETFROM:+0200
TZOFFSETTO:+0100
TZNAME:CET
DTSTART:20201025T010000
END:STANDARD
END:VTIMEZONE
BEGIN:VEVENT
DTSTART;TZID=Europe/Vienna:20200726T150000
DTEND;TZID=Europe/Vienna:20200726T200000
DTSTAMP:20260420T180842
CREATED:20200625T192009Z
LAST-MODIFIED:20210617T164120Z
UID:4034-1595775600-1595793600@www.suchhunde.wien
SUMMARY:INTENSTRAINING Laxenburg
DESCRIPTION:Liebe Mantrailer\, \nbei diesem Intensivtraining können auch wir Menschen unsere Seele baumeln lassen. Im wunderschönen Schlosspark in Laxenburg werden wir diesen Tag verbringen und die schönen Ecken davon ertrailen. Für jeden Hund sind 2 Trails geplant\, auf Wunsch ist natürlich auch ein langer Trail möglich. \nWenn du dich für diesen Termin anmeldest\, beachte bitte\, dass wir heute nicht von den Autos wegtrailen werden! Packe daher alles ein was du brauchst für diese Zeit\, natürlich auch deinen Hund. Wir werden uns gemeinsam ein schönes Plätzchen im Park suchen und von dort geht unsere Trailreise dann los. \nPicknickfeeling garantiert!
URL:https://www.suchhunde.wien/event/intensivtraining-200726-2/
LOCATION:Laxenburg – Schloss Laxenburg\, Altes Schloß & Schloßgasse\, Laxenburg\, 2361\, Österreich
CATEGORIES:(3) Events
ATTACH;FMTTYPE=image/jpeg:https://www.suchhunde.wien/wp-content/uploads/2017/03/DSC_0410_1-e1492098089867-scaled.jpg
ORGANIZER;CN="Sandra":MAILTO:sandra@suchhunde.wien
END:VEVENT
END:VCALENDAR