BEGIN:VCALENDAR
VERSION:2.0
PRODID:-//suchhunde.wien | Professionelles Training mit Herz! - ECPv5.8.1//NONSGML v1.0//EN
CALSCALE:GREGORIAN
METHOD:PUBLISH
X-WR-CALNAME:suchhunde.wien | Professionelles Training mit Herz!
X-ORIGINAL-URL:https://www.suchhunde.wien
X-WR-CALDESC:Veranstaltungen für suchhunde.wien | Professionelles Training mit Herz!
BEGIN:VTIMEZONE
TZID:Europe/Vienna
BEGIN:DAYLIGHT
TZOFFSETFROM:+0100
TZOFFSETTO:+0200
TZNAME:CEST
DTSTART:20250330T010000
END:DAYLIGHT
BEGIN:STANDARD
TZOFFSETFROM:+0200
TZOFFSETTO:+0100
TZNAME:CET
DTSTART:20251026T010000
END:STANDARD
END:VTIMEZONE
BEGIN:VEVENT
DTSTART;TZID=Europe/Vienna:20250110T140000
DTEND;TZID=Europe/Vienna:20250110T160000
DTSTAMP:20260424T115121
CREATED:20241215T101620Z
LAST-MODIFIED:20241229T162602Z
UID:67773-1736517600-1736524800@www.suchhunde.wien
SUMMARY:*AUSVERKAUFT* BringYour Buddy - Waldtrail
DESCRIPTION:Liebe Mantrailer! \nHeute bieten wir Hund und Mensch mal wieder Abwechslung – und zwar im Wurstelprater!\nBei diesem Training werden die Trails an den Wissenstand des Teams angepasst und die Basics weiter ausgebaut. Auf individuelle Schwierigkeiten je Mensch-Hunde-Team wird dabei größten Wert gelegt. \n 
URL:https://www.suchhunde.wien/event/byb-wald-250110/
LOCATION:Perchtoldsdorf – Heide\, Heide Parkplatz\, Perchtoldsdorf\, 2380\, Österreich
ATTACH;FMTTYPE=image/jpeg:https://www.suchhunde.wien/wp-content/uploads/2021/06/image-2.jpeg
ORGANIZER;CN="Sandra":MAILTO:sandra@suchhunde.wien
END:VEVENT
END:VCALENDAR